BEGIN:VCALENDAR
VERSION:2.0
PRODID:-//AusschreibungsRadar//Timeline//DE
CALSCALE:GREGORIAN
METHOD:PUBLISH
X-WR-CALNAME:Projekt Studierendenwohnheim Luisental
X-WR-TIMEZONE:Europe/Berlin
BEGIN:VEVENT
UID:96449a4c74d1bb5a@ausschreibungsradar.com
DTSTAMP:20260425T224104Z
DTSTART;VALUE=DATE:20251026
DTEND;VALUE=DATE:20251026
SUMMARY:Ausschreibung — Studierendenwohnheim Luisental
DESCRIPTION:Phase: Ausschreibung | Beschreibung: Angebote werden eingeholt | Link: https://ausschreibungsradar.com/ausschreibung/53f383cc-5f2f-422a-b921-25767ace2fc5/
URL:https://ausschreibungsradar.com/ausschreibung/53f383cc-5f2f-422a-b921-25767ace2fc5/
END:VEVENT
BEGIN:VEVENT
UID:9840a9cfc81c296e@ausschreibungsradar.com
DTSTAMP:20260425T224104Z
DTSTART;VALUE=DATE:20260227
DTEND;VALUE=DATE:20260227
SUMMARY:Vergabeergebnis — Studierendenwohnheim Luisental
DESCRIPTION:Phase: Vergabeergebnis | Beschreibung: Auftrag wurde zugeschlagen | Link: https://ausschreibungsradar.com/ausschreibung/c7b4a067-2abf-4809-8a43-a4081fea874c/
URL:https://ausschreibungsradar.com/ausschreibung/c7b4a067-2abf-4809-8a43-a4081fea874c/
END:VEVENT
END:VCALENDAR
