BEGIN:VCALENDAR
VERSION:2.0
PRODID:-//AusschreibungsRadar//Timeline//DE
CALSCALE:GREGORIAN
METHOD:PUBLISH
X-WR-CALNAME:Projekt Generalsanierung und Erweiterung Mehrzweckhalle Freystadt; Z
X-WR-TIMEZONE:Europe/Berlin
BEGIN:VEVENT
UID:2be32cc53b2fea9d@ausschreibungsradar.com
DTSTAMP:20260425T150359Z
DTSTART;VALUE=DATE:20240625
DTEND;VALUE=DATE:20240625
SUMMARY:Angebotsfrist — Generalsanierung und Erweiterung Mehrzweckhalle Freystadt\; Z
DESCRIPTION:Phase: Ausschreibung | Beschreibung: Angebote werden eingeholt | Link: https://ausschreibungsradar.com/ausschreibung/c7d1ec02-83fa-43e8-a128-7b0e4179e535/
URL:https://ausschreibungsradar.com/ausschreibung/c7d1ec02-83fa-43e8-a128-7b0e4179e535/
END:VEVENT
BEGIN:VEVENT
UID:696d59fdcae1d67e@ausschreibungsradar.com
DTSTAMP:20260425T150359Z
DTSTART;VALUE=DATE:20240523
DTEND;VALUE=DATE:20240523
SUMMARY:Ausschreibung — Generalsanierung und Erweiterung Mehrzweckhalle Freystadt\; Z
DESCRIPTION:Phase: Ausschreibung | Beschreibung: Offizielle Ausschreibung mit Bieterfrist. | Link: https://ausschreibungsradar.com/ausschreibung/ted-302547-2024/
URL:https://ausschreibungsradar.com/ausschreibung/ted-302547-2024/
END:VEVENT
BEGIN:VEVENT
UID:f72d0bd35f9f6d9a@ausschreibungsradar.com
DTSTAMP:20260425T150359Z
DTSTART;VALUE=DATE:20240719
DTEND;VALUE=DATE:20240719
SUMMARY:Vergabeergebnis — Generalsanierung und Erweiterung Mehrzweckhalle Freystadt\; Z
DESCRIPTION:Phase: Vergabeergebnis | Beschreibung: Auftrag wurde zugeschlagen | Link: https://ausschreibungsradar.com/ausschreibung/897e76aa-4900-4153-b942-1b1e7a13b25b/
URL:https://ausschreibungsradar.com/ausschreibung/897e76aa-4900-4153-b942-1b1e7a13b25b/
END:VEVENT
END:VCALENDAR
