BEGIN:VCALENDAR
VERSION:2.0
PRODID:-//AusschreibungsRadar//Timeline//DE
CALSCALE:GREGORIAN
METHOD:PUBLISH
X-WR-CALNAME:Projekt Neubau Verwaltungsgebäude Landratsamt Rottweil - Heizung/Käl
X-WR-TIMEZONE:Europe/Berlin
BEGIN:VEVENT
UID:0bb2051c60fbdc2b@ausschreibungsradar.com
DTSTAMP:20260425T152234Z
DTSTART;VALUE=DATE:20251216
DTEND;VALUE=DATE:20251216
SUMMARY:Zuschlag — Neubau Verwaltungsgebäude Landratsamt Rottweil - Heizung/Käl
DESCRIPTION:Phase: Zuschlag | Beschreibung: Vergabeergebnis — Auftrag wurde erteilt oder Verfahren beendet. | Link: https://ausschreibungsradar.com/ausschreibung/f9a6d453-7088-4bc6-87d6-85ef5afd1c32/
URL:https://ausschreibungsradar.com/ausschreibung/f9a6d453-7088-4bc6-87d6-85ef5afd1c32/
END:VEVENT
BEGIN:VEVENT
UID:86d1dbeb36f752ea@ausschreibungsradar.com
DTSTAMP:20260425T152234Z
DTSTART;VALUE=DATE:20260217
DTEND;VALUE=DATE:20260217
SUMMARY:Angebotsfrist — Neubau Verwaltungsgebäude Landratsamt Rottweil - Heizung/Käl
DESCRIPTION:Phase: Ausschreibung | Beschreibung: Angebote werden eingeholt | Link: https://ausschreibungsradar.com/ausschreibung/c7d431ef-521d-4985-9f88-52e6513afbf3/
URL:https://ausschreibungsradar.com/ausschreibung/c7d431ef-521d-4985-9f88-52e6513afbf3/
END:VEVENT
BEGIN:VEVENT
UID:ac3bd7631604b8ca@ausschreibungsradar.com
DTSTAMP:20260425T152234Z
DTSTART;VALUE=DATE:20260109
DTEND;VALUE=DATE:20260109
SUMMARY:Ausschreibung — Neubau Verwaltungsgebäude Landratsamt Rottweil - Heizung/Käl
DESCRIPTION:Phase: Ausschreibung | Beschreibung: Offizielle Ausschreibung mit Bieterfrist. | Link: https://ausschreibungsradar.com/ausschreibung/2dbb3c20-171c-4a88-8686-448fc878c7b0/
URL:https://ausschreibungsradar.com/ausschreibung/2dbb3c20-171c-4a88-8686-448fc878c7b0/
END:VEVENT
END:VCALENDAR
