BEGIN:VCALENDAR
VERSION:2.0
PRODID:-//AusschreibungsRadar//Timeline//DE
CALSCALE:GREGORIAN
METHOD:PUBLISH
X-WR-CALNAME:Projekt Beschaffung eines Hilfeleistungslöschgruppenfahrzeuges 10 (H
X-WR-TIMEZONE:Europe/Berlin
BEGIN:VEVENT
UID:aaa4535df656249b@ausschreibungsradar.com
DTSTAMP:20260423T230323Z
DTSTART;VALUE=DATE:20250724
DTEND;VALUE=DATE:20250724
SUMMARY:Angebotsfrist — Beschaffung eines Hilfeleistungslöschgruppenfahrzeuges 10 (H
DESCRIPTION:Phase: Ausschreibung | Beschreibung: Angebote werden eingeholt | Link: https://ausschreibungsradar.com/ausschreibung/c875df28-c7e2-4c79-8103-9159a4dc6dcf/
URL:https://ausschreibungsradar.com/ausschreibung/c875df28-c7e2-4c79-8103-9159a4dc6dcf/
END:VEVENT
BEGIN:VEVENT
UID:44cf83a91764f47d@ausschreibungsradar.com
DTSTAMP:20260423T230323Z
DTSTART;VALUE=DATE:20250527
DTEND;VALUE=DATE:20250527
SUMMARY:Ausschreibung — Beschaffung eines Hilfeleistungslöschgruppenfahrzeuges 10 (H
DESCRIPTION:Phase: Ausschreibung | Beschreibung: Offizielle Ausschreibung mit Bieterfrist. | Link: https://ausschreibungsradar.com/ausschreibung/fef83e78-610e-4289-8ed3-6d7e4fbf7340/
URL:https://ausschreibungsradar.com/ausschreibung/fef83e78-610e-4289-8ed3-6d7e4fbf7340/
END:VEVENT
BEGIN:VEVENT
UID:bc1fd1d317f7bc4c@ausschreibungsradar.com
DTSTAMP:20260423T230323Z
DTSTART;VALUE=DATE:20250712
DTEND;VALUE=DATE:20250712
SUMMARY:Zuschlag — Beschaffung eines Hilfeleistungslöschgruppenfahrzeuges 10 (H
DESCRIPTION:Phase: Zuschlag | Beschreibung: Vergabeergebnis — Auftrag wurde erteilt oder Verfahren beendet. | Link: https://ausschreibungsradar.com/ausschreibung/8e19376d-f927-4954-aab4-b1d2e2c821d2/
URL:https://ausschreibungsradar.com/ausschreibung/8e19376d-f927-4954-aab4-b1d2e2c821d2/
END:VEVENT
BEGIN:VEVENT
UID:547daa95a19570df@ausschreibungsradar.com
DTSTAMP:20260423T230323Z
DTSTART;VALUE=DATE:20250725
DTEND;VALUE=DATE:20250725
SUMMARY:Zuschlag — Beschaffung eines Hilfeleistungslöschgruppenfahrzeuges 10 (H
DESCRIPTION:Phase: Zuschlag | Beschreibung: Vergabeergebnis — Auftrag wurde erteilt oder Verfahren beendet. | Link: https://ausschreibungsradar.com/ausschreibung/3b2a0469-c1f4-4dd2-bba0-399e6bd33df0/
URL:https://ausschreibungsradar.com/ausschreibung/3b2a0469-c1f4-4dd2-bba0-399e6bd33df0/
END:VEVENT
BEGIN:VEVENT
UID:0f95903630008099@ausschreibungsradar.com
DTSTAMP:20260423T230323Z
DTSTART;VALUE=DATE:20250813
DTEND;VALUE=DATE:20250813
SUMMARY:Zuschlag — Beschaffung eines Hilfeleistungslöschgruppenfahrzeuges 10 (H
DESCRIPTION:Phase: Zuschlag | Beschreibung: Vergabeergebnis — Auftrag wurde erteilt oder Verfahren beendet. | Link: https://ausschreibungsradar.com/ausschreibung/4616cb28-65d2-4a14-b7e0-4857a8d17133/
URL:https://ausschreibungsradar.com/ausschreibung/4616cb28-65d2-4a14-b7e0-4857a8d17133/
END:VEVENT
BEGIN:VEVENT
UID:67b3eb71cd21fec9@ausschreibungsradar.com
DTSTAMP:20260423T230323Z
DTSTART;VALUE=DATE:20250828
DTEND;VALUE=DATE:20250828
SUMMARY:Vergabeergebnis — Beschaffung eines Hilfeleistungslöschgruppenfahrzeuges 10 (H
DESCRIPTION:Phase: Vergabeergebnis | Beschreibung: Auftrag wurde zugeschlagen | Link: https://ausschreibungsradar.com/ausschreibung/bdcd26bf-1b75-426f-866a-6f01db5689a6/
URL:https://ausschreibungsradar.com/ausschreibung/bdcd26bf-1b75-426f-866a-6f01db5689a6/
END:VEVENT
END:VCALENDAR
