BEGIN:VCALENDAR
VERSION:2.0
PRODID:-//AusschreibungsRadar//Timeline//DE
CALSCALE:GREGORIAN
METHOD:PUBLISH
X-WR-CALNAME:Projekt Schaltanlage EZO
X-WR-TIMEZONE:Europe/Berlin
BEGIN:VEVENT
UID:0dcf8cc1b0cec7df@ausschreibungsradar.com
DTSTAMP:20260425T205937Z
DTSTART;VALUE=DATE:20240213
DTEND;VALUE=DATE:20240213
SUMMARY:Angebotsfrist — Schaltanlage EZO
DESCRIPTION:Phase: Ausschreibung | Beschreibung: Angebote werden eingeholt | Link: https://ausschreibungsradar.com/ausschreibung/849fd3a8-d8e0-4c09-ae5b-07db61980f8c/
URL:https://ausschreibungsradar.com/ausschreibung/849fd3a8-d8e0-4c09-ae5b-07db61980f8c/
END:VEVENT
BEGIN:VEVENT
UID:ead12f63bb618fb5@ausschreibungsradar.com
DTSTAMP:20260425T205937Z
DTSTART;VALUE=DATE:20240327
DTEND;VALUE=DATE:20240327
SUMMARY:Vergabeergebnis — Schaltanlage EZO
DESCRIPTION:Phase: Vergabeergebnis | Beschreibung: Auftrag wurde zugeschlagen | Link: https://ausschreibungsradar.com/ausschreibung/c897b52a-77aa-4eb8-8d96-77d9712df89f/
URL:https://ausschreibungsradar.com/ausschreibung/c897b52a-77aa-4eb8-8d96-77d9712df89f/
END:VEVENT
BEGIN:VEVENT
UID:d924315cbc68c594@ausschreibungsradar.com
DTSTAMP:20260425T205937Z
DTSTART;VALUE=DATE:20240328
DTEND;VALUE=DATE:20240328
SUMMARY:Zuschlag — Schaltanlage EZO
DESCRIPTION:Phase: Zuschlag | Beschreibung: Vergabeergebnis — Auftrag wurde erteilt oder Verfahren beendet. | Link: https://ausschreibungsradar.com/ausschreibung/ted-188297-2024/
URL:https://ausschreibungsradar.com/ausschreibung/ted-188297-2024/
END:VEVENT
END:VCALENDAR
