BEGIN:VCALENDAR
VERSION:2.0
PRODID:-//AusschreibungsRadar//Timeline//DE
CALSCALE:GREGORIAN
METHOD:PUBLISH
X-WR-CALNAME:Projekt Neubau Lebenshilfeschule mit Tagesstätte Landau a.d.Isar; Wä
X-WR-TIMEZONE:Europe/Berlin
BEGIN:VEVENT
UID:cbfcecd351989681@ausschreibungsradar.com
DTSTAMP:20260425T225849Z
DTSTART;VALUE=DATE:20240605
DTEND;VALUE=DATE:20240605
SUMMARY:Angebotsfrist — Neubau Lebenshilfeschule mit Tagesstätte Landau a.d.Isar\; Wä
DESCRIPTION:Phase: Ausschreibung | Beschreibung: Angebote werden eingeholt | Link: https://ausschreibungsradar.com/ausschreibung/f81b5f10-af37-45bc-ba8c-4f215714106c/
URL:https://ausschreibungsradar.com/ausschreibung/f81b5f10-af37-45bc-ba8c-4f215714106c/
END:VEVENT
BEGIN:VEVENT
UID:77ee8ac00452a8a6@ausschreibungsradar.com
DTSTAMP:20260425T225849Z
DTSTART;VALUE=DATE:20240725
DTEND;VALUE=DATE:20240725
SUMMARY:Zuschlag — Neubau Lebenshilfeschule mit Tagesstätte Landau a.d.Isar\; Wä
DESCRIPTION:Phase: Zuschlag | Beschreibung: Vergabeergebnis — Auftrag wurde erteilt oder Verfahren beendet. | Link: https://ausschreibungsradar.com/ausschreibung/9c04d4d4-40e0-4a7d-bf53-ccc987feddad/
URL:https://ausschreibungsradar.com/ausschreibung/9c04d4d4-40e0-4a7d-bf53-ccc987feddad/
END:VEVENT
BEGIN:VEVENT
UID:40d2158e93856fea@ausschreibungsradar.com
DTSTAMP:20260425T225849Z
DTSTART;VALUE=DATE:20240730
DTEND;VALUE=DATE:20240730
SUMMARY:Vergabeergebnis — Neubau Lebenshilfeschule mit Tagesstätte Landau a.d.Isar\; Wä
DESCRIPTION:Phase: Vergabeergebnis | Beschreibung: Auftrag wurde zugeschlagen | Link: https://ausschreibungsradar.com/ausschreibung/c8c9cd6d-b867-4eee-bb41-4d2cedd5065b/ | Auftragnehmer: Lindner Isoliertechnik & 
URL:https://ausschreibungsradar.com/ausschreibung/c8c9cd6d-b867-4eee-bb41-4d2cedd5065b/
END:VEVENT
BEGIN:VEVENT
UID:62d9d48398615a8a@ausschreibungsradar.com
DTSTAMP:20260425T225849Z
DTSTART;VALUE=DATE:20240806
DTEND;VALUE=DATE:20240806
SUMMARY:Ausschreibung — Neubau Lebenshilfeschule mit Tagesstätte Landau a.d.Isar\; Wä
DESCRIPTION:Phase: Ausschreibung | Beschreibung: Offizielle Ausschreibung mit Bieterfrist. | Link: https://ausschreibungsradar.com/ausschreibung/b1490338-e833-433b-98f8-60a331a83f41/
URL:https://ausschreibungsradar.com/ausschreibung/b1490338-e833-433b-98f8-60a331a83f41/
END:VEVENT
END:VCALENDAR
