BEGIN:VCALENDAR
VERSION:2.0
PRODID:-//AusschreibungsRadar//Timeline//DE
CALSCALE:GREGORIAN
METHOD:PUBLISH
X-WR-CALNAME:Projekt 470 BSGM - Neubau Bgm. Schütte Grundschule Partenkirchen (BA
X-WR-TIMEZONE:Europe/Berlin
BEGIN:VEVENT
UID:a65c9291cb17fce2@ausschreibungsradar.com
DTSTAMP:20260424T015412Z
DTSTART;VALUE=DATE:20250630
DTEND;VALUE=DATE:20250630
SUMMARY:Angebotsfrist — 470 BSGM - Neubau Bgm. Schütte Grundschule Partenkirchen (BA
DESCRIPTION:Phase: Ausschreibung | Beschreibung: Angebote werden eingeholt | Link: https://ausschreibungsradar.com/ausschreibung/c9a5eaa7-c813-4247-8a8e-d6d6e9c0bd54/
URL:https://ausschreibungsradar.com/ausschreibung/c9a5eaa7-c813-4247-8a8e-d6d6e9c0bd54/
END:VEVENT
BEGIN:VEVENT
UID:cba5ee23cadb8199@ausschreibungsradar.com
DTSTAMP:20260424T015412Z
DTSTART;VALUE=DATE:20250509
DTEND;VALUE=DATE:20250509
SUMMARY:Ausschreibung — 470 BSGM - Neubau Bgm. Schütte Grundschule Partenkirchen (BA
DESCRIPTION:Phase: Ausschreibung | Beschreibung: Offizielle Ausschreibung mit Bieterfrist. | Link: https://ausschreibungsradar.com/ausschreibung/e91c7dab-8409-4bfa-9544-2cded03569cf/
URL:https://ausschreibungsradar.com/ausschreibung/e91c7dab-8409-4bfa-9544-2cded03569cf/
END:VEVENT
BEGIN:VEVENT
UID:60e433c4ead94096@ausschreibungsradar.com
DTSTAMP:20260424T015412Z
DTSTART;VALUE=DATE:20250509
DTEND;VALUE=DATE:20250509
SUMMARY:Ausschreibung — 470 BSGM - Neubau Bgm. Schütte Grundschule Partenkirchen (BA
DESCRIPTION:Phase: Ausschreibung | Beschreibung: Offizielle Ausschreibung mit Bieterfrist. | Link: https://ausschreibungsradar.com/ausschreibung/c606f9be-3fee-4664-98bd-641b52e4bc81/
URL:https://ausschreibungsradar.com/ausschreibung/c606f9be-3fee-4664-98bd-641b52e4bc81/
END:VEVENT
BEGIN:VEVENT
UID:f66d581afab21607@ausschreibungsradar.com
DTSTAMP:20260424T015412Z
DTSTART;VALUE=DATE:20250509
DTEND;VALUE=DATE:20250509
SUMMARY:Ausschreibung — 470 BSGM - Neubau Bgm. Schütte Grundschule Partenkirchen (BA
DESCRIPTION:Phase: Ausschreibung | Beschreibung: Offizielle Ausschreibung mit Bieterfrist. | Link: https://ausschreibungsradar.com/ausschreibung/8eaba568-8e30-4c11-a47d-d9d9dbdfefbd/
URL:https://ausschreibungsradar.com/ausschreibung/8eaba568-8e30-4c11-a47d-d9d9dbdfefbd/
END:VEVENT
BEGIN:VEVENT
UID:743240f64b1fccde@ausschreibungsradar.com
DTSTAMP:20260424T015412Z
DTSTART;VALUE=DATE:20250509
DTEND;VALUE=DATE:20250509
SUMMARY:Ausschreibung — 470 BSGM - Neubau Bgm. Schütte Grundschule Partenkirchen (BA
DESCRIPTION:Phase: Ausschreibung | Beschreibung: Offizielle Ausschreibung mit Bieterfrist. | Link: https://ausschreibungsradar.com/ausschreibung/cfb519df-f8da-49a7-a617-c77b6676c85a/
URL:https://ausschreibungsradar.com/ausschreibung/cfb519df-f8da-49a7-a617-c77b6676c85a/
END:VEVENT
BEGIN:VEVENT
UID:afd5c6b5c26164ad@ausschreibungsradar.com
DTSTAMP:20260424T015412Z
DTSTART;VALUE=DATE:20250509
DTEND;VALUE=DATE:20250509
SUMMARY:Ausschreibung — 470 BSGM - Neubau Bgm. Schütte Grundschule Partenkirchen (BA
DESCRIPTION:Phase: Ausschreibung | Beschreibung: Offizielle Ausschreibung mit Bieterfrist. | Link: https://ausschreibungsradar.com/ausschreibung/69b3ddb7-a2ad-4a19-89fa-b41447fc7b96/
URL:https://ausschreibungsradar.com/ausschreibung/69b3ddb7-a2ad-4a19-89fa-b41447fc7b96/
END:VEVENT
END:VCALENDAR
