BEGIN:VCALENDAR
VERSION:2.0
PRODID:-//AusschreibungsRadar//Timeline//DE
CALSCALE:GREGORIAN
METHOD:PUBLISH
X-WR-CALNAME:Projekt VG Wissen - MZF 2
X-WR-TIMEZONE:Europe/Berlin
BEGIN:VEVENT
UID:d90e1572ff0e260b@ausschreibungsradar.com
DTSTAMP:20260425T021211Z
DTSTART;VALUE=DATE:20240917
DTEND;VALUE=DATE:20240917
SUMMARY:Angebotsfrist — VG Wissen - MZF 2
DESCRIPTION:Phase: Ausschreibung | Beschreibung: Angebote werden eingeholt | Link: https://ausschreibungsradar.com/ausschreibung/ca31b72c-900f-457e-980d-18665f4b4ff2/
URL:https://ausschreibungsradar.com/ausschreibung/ca31b72c-900f-457e-980d-18665f4b4ff2/
END:VEVENT
BEGIN:VEVENT
UID:c33c3d79dd36a49f@ausschreibungsradar.com
DTSTAMP:20260425T021211Z
DTSTART;VALUE=DATE:20240818
DTEND;VALUE=DATE:20240818
SUMMARY:Ausschreibung — VG Wissen - MZF 2
DESCRIPTION:Phase: Ausschreibung | Beschreibung: Offizielle Ausschreibung mit Bieterfrist. | Link: https://ausschreibungsradar.com/ausschreibung/ac264d76-3c24-4cfa-b6e3-df166588dce8/
URL:https://ausschreibungsradar.com/ausschreibung/ac264d76-3c24-4cfa-b6e3-df166588dce8/
END:VEVENT
END:VCALENDAR
