BEGIN:VCALENDAR
VERSION:2.0
PRODID:-//AusschreibungsRadar//Timeline//DE
CALSCALE:GREGORIAN
METHOD:PUBLISH
X-WR-CALNAME:Projekt Vergabe der Kontrolle, Überprüfung und Bewertung des Arbeits
X-WR-TIMEZONE:Europe/Berlin
BEGIN:VEVENT
UID:592792561c39da6c@ausschreibungsradar.com
DTSTAMP:20260424T152811Z
DTSTART;VALUE=DATE:20251013
DTEND;VALUE=DATE:20251013
SUMMARY:Ausschreibung — Vergabe der Kontrolle\, Überprüfung und Bewertung des Arbeits
DESCRIPTION:Phase: Ausschreibung | Beschreibung: Angebote werden eingeholt | Link: https://ausschreibungsradar.com/ausschreibung/fe6540f5-bed4-445b-a6a5-a2f8c10a0205/
URL:https://ausschreibungsradar.com/ausschreibung/fe6540f5-bed4-445b-a6a5-a2f8c10a0205/
END:VEVENT
BEGIN:VEVENT
UID:ac5a04952f79528d@ausschreibungsradar.com
DTSTAMP:20260424T152811Z
DTSTART;VALUE=DATE:20251209
DTEND;VALUE=DATE:20251209
SUMMARY:Vergabeergebnis — Vergabe der Kontrolle\, Überprüfung und Bewertung des Arbeits
DESCRIPTION:Phase: Vergabeergebnis | Beschreibung: Alle Angebote ausgeschlossen | Link: https://ausschreibungsradar.com/ausschreibung/cbc0b143-0779-4bcd-ac5e-e990426118fa/
URL:https://ausschreibungsradar.com/ausschreibung/cbc0b143-0779-4bcd-ac5e-e990426118fa/
END:VEVENT
END:VCALENDAR
