BEGIN:VCALENDAR
VERSION:2.0
PRODID:-//AusschreibungsRadar//Timeline//DE
CALSCALE:GREGORIAN
METHOD:PUBLISH
X-WR-CALNAME:Projekt Stadt Polch - Planungsleistungen für das Bauvorhaben Sportpa
X-WR-TIMEZONE:Europe/Berlin
BEGIN:VEVENT
UID:c2d2e362c08dca9e@ausschreibungsradar.com
DTSTAMP:20260426T021835Z
DTSTART;VALUE=DATE:20240627
DTEND;VALUE=DATE:20240627
SUMMARY:Zuschlag — Stadt Polch - Planungsleistungen für das Bauvorhaben Sportpa
DESCRIPTION:Phase: Zuschlag | Beschreibung: Vergabeergebnis — Auftrag wurde erteilt oder Verfahren beendet. | Link: https://ausschreibungsradar.com/ausschreibung/cd1156b0-1553-4e59-ad99-db7867cceeca/
URL:https://ausschreibungsradar.com/ausschreibung/cd1156b0-1553-4e59-ad99-db7867cceeca/
END:VEVENT
BEGIN:VEVENT
UID:05f1440734e9b041@ausschreibungsradar.com
DTSTAMP:20260426T021835Z
DTSTART;VALUE=DATE:20240627
DTEND;VALUE=DATE:20240627
SUMMARY:Ausschreibung — Stadt Polch - Planungsleistungen für das Bauvorhaben Sportpa
DESCRIPTION:Phase: Ausschreibung | Beschreibung: Offizielle Ausschreibung mit Bieterfrist. | Link: https://ausschreibungsradar.com/ausschreibung/0763ae8d-1e70-421d-9322-6ff3d66272fd/
URL:https://ausschreibungsradar.com/ausschreibung/0763ae8d-1e70-421d-9322-6ff3d66272fd/
END:VEVENT
END:VCALENDAR
