BEGIN:VCALENDAR
VERSION:2.0
PRODID:-//AusschreibungsRadar//Timeline//DE
CALSCALE:GREGORIAN
METHOD:PUBLISH
X-WR-CALNAME:Projekt Umbau, Sanierung FG I und II, Neubau FG III im Kurt-Bürger-S
X-WR-TIMEZONE:Europe/Berlin
BEGIN:VEVENT
UID:036e6fcb43e7ee15@ausschreibungsradar.com
DTSTAMP:20260425T142553Z
DTSTART;VALUE=DATE:20250829
DTEND;VALUE=DATE:20250829
SUMMARY:Angebotsfrist — Umbau\, Sanierung FG I und II\, Neubau FG III im Kurt-Bürger-S
DESCRIPTION:Phase: Ausschreibung | Beschreibung: Angebote werden eingeholt | Link: https://ausschreibungsradar.com/ausschreibung/cdfb2dde-9f0c-4a4e-b2ab-168cbfc83f1f/
URL:https://ausschreibungsradar.com/ausschreibung/cdfb2dde-9f0c-4a4e-b2ab-168cbfc83f1f/
END:VEVENT
BEGIN:VEVENT
UID:ecb4a024709a5149@ausschreibungsradar.com
DTSTAMP:20260425T142553Z
DTSTART;VALUE=DATE:20250825
DTEND;VALUE=DATE:20250825
SUMMARY:Vergabeergebnis — Umbau\, Sanierung FG I und II\, Neubau FG III im Kurt-Bürger-S
DESCRIPTION:Phase: Vergabeergebnis | Beschreibung: Bedarf hat sich geändert | Link: https://ausschreibungsradar.com/ausschreibung/a1e388c4-da94-4209-befe-59ac37735c3e/
URL:https://ausschreibungsradar.com/ausschreibung/a1e388c4-da94-4209-befe-59ac37735c3e/
END:VEVENT
END:VCALENDAR
