BEGIN:VCALENDAR
VERSION:2.0
PRODID:-//AusschreibungsRadar//Timeline//DE
CALSCALE:GREGORIAN
METHOD:PUBLISH
X-WR-CALNAME:Projekt Deutsche Schillergesellschaft e.V. - Bestandssanierung DLA M
X-WR-TIMEZONE:Europe/Berlin
BEGIN:VEVENT
UID:8bd47b8e65b5de71@ausschreibungsradar.com
DTSTAMP:20260424T063301Z
DTSTART;VALUE=DATE:20250219
DTEND;VALUE=DATE:20250219
SUMMARY:Ausschreibung — Deutsche Schillergesellschaft e.V. - Bestandssanierung DLA M
DESCRIPTION:Phase: Ausschreibung | Beschreibung: Angebote werden eingeholt | Link: https://ausschreibungsradar.com/ausschreibung/9e615174-6423-4faf-8aa6-00e427fb5531/
URL:https://ausschreibungsradar.com/ausschreibung/9e615174-6423-4faf-8aa6-00e427fb5531/
END:VEVENT
BEGIN:VEVENT
UID:19682a7a0217eb2b@ausschreibungsradar.com
DTSTAMP:20260424T063301Z
DTSTART;VALUE=DATE:20251006
DTEND;VALUE=DATE:20251006
SUMMARY:Vergabeergebnis — Deutsche Schillergesellschaft e.V. - Bestandssanierung DLA M
DESCRIPTION:Phase: Vergabeergebnis | Beschreibung: Auftrag wurde zugeschlagen | Link: https://ausschreibungsradar.com/ausschreibung/cf9bcaea-bead-4ed7-ab29-25c81012ddd5/
URL:https://ausschreibungsradar.com/ausschreibung/cf9bcaea-bead-4ed7-ab29-25c81012ddd5/
END:VEVENT
BEGIN:VEVENT
UID:9f1a1fead6626941@ausschreibungsradar.com
DTSTAMP:20260424T063301Z
DTSTART;VALUE=DATE:20251006
DTEND;VALUE=DATE:20251006
SUMMARY:Zuschlag — Deutsche Schillergesellschaft e.V. - Bestandssanierung DLA M
DESCRIPTION:Phase: Zuschlag | Beschreibung: Vergabeergebnis — Auftrag wurde erteilt oder Verfahren beendet. | Link: https://ausschreibungsradar.com/ausschreibung/b4716807-6253-4699-9c2c-21bc53acb27c/
URL:https://ausschreibungsradar.com/ausschreibung/b4716807-6253-4699-9c2c-21bc53acb27c/
END:VEVENT
BEGIN:VEVENT
UID:fd6f98d713e99533@ausschreibungsradar.com
DTSTAMP:20260424T063301Z
DTSTART;VALUE=DATE:20251006
DTEND;VALUE=DATE:20251006
SUMMARY:Zuschlag — Deutsche Schillergesellschaft e.V. - Bestandssanierung DLA M
DESCRIPTION:Phase: Zuschlag | Beschreibung: Vergabeergebnis — Auftrag wurde erteilt oder Verfahren beendet. | Link: https://ausschreibungsradar.com/ausschreibung/01482d55-548f-4135-a7df-b685353d45ed/
URL:https://ausschreibungsradar.com/ausschreibung/01482d55-548f-4135-a7df-b685353d45ed/
END:VEVENT
BEGIN:VEVENT
UID:d21fd5ee0094569b@ausschreibungsradar.com
DTSTAMP:20260424T063301Z
DTSTART;VALUE=DATE:20251006
DTEND;VALUE=DATE:20251006
SUMMARY:Zuschlag — Deutsche Schillergesellschaft e.V. - Bestandssanierung DLA M
DESCRIPTION:Phase: Zuschlag | Beschreibung: Vergabeergebnis — Auftrag wurde erteilt oder Verfahren beendet. | Link: https://ausschreibungsradar.com/ausschreibung/603b93eb-7105-4c93-8bd3-f5780e6abff5/
URL:https://ausschreibungsradar.com/ausschreibung/603b93eb-7105-4c93-8bd3-f5780e6abff5/
END:VEVENT
BEGIN:VEVENT
UID:25c99126fcf19d3c@ausschreibungsradar.com
DTSTAMP:20260424T063301Z
DTSTART;VALUE=DATE:20251015
DTEND;VALUE=DATE:20251015
SUMMARY:Zuschlag — Deutsche Schillergesellschaft e.V. - Bestandssanierung DLA M
DESCRIPTION:Phase: Zuschlag | Beschreibung: Vergabeergebnis — Auftrag wurde erteilt oder Verfahren beendet. | Link: https://ausschreibungsradar.com/ausschreibung/a1221310-c904-4637-83a2-bcd1841f855e/
URL:https://ausschreibungsradar.com/ausschreibung/a1221310-c904-4637-83a2-bcd1841f855e/
END:VEVENT
END:VCALENDAR
