BEGIN:VCALENDAR
VERSION:2.0
PRODID:-//AusschreibungsRadar//Timeline//DE
CALSCALE:GREGORIAN
METHOD:PUBLISH
X-WR-CALNAME:Projekt Rahmenvertrag Softwarelizenzen TechSmith
X-WR-TIMEZONE:Europe/Berlin
BEGIN:VEVENT
UID:38720bc1afd78b06@ausschreibungsradar.com
DTSTAMP:20260424T074755Z
DTSTART;VALUE=DATE:20240216
DTEND;VALUE=DATE:20240216
SUMMARY:Angebotsfrist — Rahmenvertrag Softwarelizenzen TechSmith
DESCRIPTION:Phase: Ausschreibung | Beschreibung: Angebote werden eingeholt | Link: https://ausschreibungsradar.com/ausschreibung/cfbb3aeb-010d-423a-9615-2e494366bc5e/
URL:https://ausschreibungsradar.com/ausschreibung/cfbb3aeb-010d-423a-9615-2e494366bc5e/
END:VEVENT
END:VCALENDAR
