BEGIN:VCALENDAR
VERSION:2.0
PRODID:-//AusschreibungsRadar//Timeline//DE
CALSCALE:GREGORIAN
METHOD:PUBLISH
X-WR-CALNAME:Projekt Rahmenvereinbarung für die Lieferung von Flüssigsauerstoff e
X-WR-TIMEZONE:Europe/Berlin
BEGIN:VEVENT
UID:145c17609c851e42@ausschreibungsradar.com
DTSTAMP:20260425T163826Z
DTSTART;VALUE=DATE:20260116
DTEND;VALUE=DATE:20260116
SUMMARY:Ausschreibung — Rahmenvereinbarung für die Lieferung von Flüssigsauerstoff e
DESCRIPTION:Phase: Ausschreibung | Beschreibung: Offizielle Ausschreibung mit Bieterfrist. | Link: https://ausschreibungsradar.com/ausschreibung/7d60d1d6-92d8-4194-8a3f-950220db54d3/
URL:https://ausschreibungsradar.com/ausschreibung/7d60d1d6-92d8-4194-8a3f-950220db54d3/
END:VEVENT
BEGIN:VEVENT
UID:6a5e8fca4b939172@ausschreibungsradar.com
DTSTAMP:20260425T163826Z
DTSTART;VALUE=DATE:20260302
DTEND;VALUE=DATE:20260302
SUMMARY:Angebotsfrist — Rahmenvereinbarung für die Lieferung von Flüssigsauerstoff e
DESCRIPTION:Phase: Ausschreibung | Beschreibung: Angebote werden eingeholt | Link: https://ausschreibungsradar.com/ausschreibung/d03ebddc-4994-41a7-a4c3-8b173f5c78a2/
URL:https://ausschreibungsradar.com/ausschreibung/d03ebddc-4994-41a7-a4c3-8b173f5c78a2/
END:VEVENT
END:VCALENDAR
