BEGIN:VCALENDAR
VERSION:2.0
PRODID:-//AusschreibungsRadar//Timeline//DE
CALSCALE:GREGORIAN
METHOD:PUBLISH
X-WR-CALNAME:Projekt Hausmeistervertrag Kanalunterhaltung 2026 - 2028
X-WR-TIMEZONE:Europe/Berlin
BEGIN:VEVENT
UID:00df0bf3e7636754@ausschreibungsradar.com
DTSTAMP:20260425T103552Z
DTSTART;VALUE=DATE:20251215
DTEND;VALUE=DATE:20251215
SUMMARY:Angebotsfrist — Hausmeistervertrag Kanalunterhaltung 2026 - 2028
DESCRIPTION:Phase: Ausschreibung | Beschreibung: Angebote werden eingeholt | Link: https://ausschreibungsradar.com/ausschreibung/d07efd42-ecc4-4eef-a530-e112d88c023c/
URL:https://ausschreibungsradar.com/ausschreibung/d07efd42-ecc4-4eef-a530-e112d88c023c/
END:VEVENT
BEGIN:VEVENT
UID:540ee27a7b425064@ausschreibungsradar.com
DTSTAMP:20260425T103552Z
DTSTART;VALUE=DATE:20260107
DTEND;VALUE=DATE:20260107
SUMMARY:Vergabeergebnis — Hausmeistervertrag Kanalunterhaltung 2026 - 2028
DESCRIPTION:Phase: Vergabeergebnis | Beschreibung: Auftrag wurde zugeschlagen | Link: https://ausschreibungsradar.com/ausschreibung/875bd7af-1e96-4a41-9862-dff1bc7de8b9/
URL:https://ausschreibungsradar.com/ausschreibung/875bd7af-1e96-4a41-9862-dff1bc7de8b9/
END:VEVENT
END:VCALENDAR
