BEGIN:VCALENDAR
VERSION:2.0
PRODID:-//AusschreibungsRadar//Timeline//DE
CALSCALE:GREGORIAN
METHOD:PUBLISH
X-WR-CALNAME:Projekt Zimmerarbeiten für das Hallenfreibad Bochum Linden
X-WR-TIMEZONE:Europe/Berlin
BEGIN:VEVENT
UID:9a96299d09114a7c@ausschreibungsradar.com
DTSTAMP:20260426T004712Z
DTSTART;VALUE=DATE:20240327
DTEND;VALUE=DATE:20240327
SUMMARY:Angebotsfrist — Zimmerarbeiten für das Hallenfreibad Bochum Linden
DESCRIPTION:Phase: Ausschreibung | Beschreibung: Angebote werden eingeholt | Link: https://ausschreibungsradar.com/ausschreibung/d0aa7620-6946-4d65-b0e4-b63e84e729a1/
URL:https://ausschreibungsradar.com/ausschreibung/d0aa7620-6946-4d65-b0e4-b63e84e729a1/
END:VEVENT
BEGIN:VEVENT
UID:c54f1515cb221337@ausschreibungsradar.com
DTSTAMP:20260426T004712Z
DTSTART;VALUE=DATE:20240221
DTEND;VALUE=DATE:20240221
SUMMARY:Ausschreibung — Zimmerarbeiten für das Hallenfreibad Bochum Linden
DESCRIPTION:Phase: Ausschreibung | Beschreibung: Offizielle Ausschreibung mit Bieterfrist. | Link: https://ausschreibungsradar.com/ausschreibung/ted-109554-2024/
URL:https://ausschreibungsradar.com/ausschreibung/ted-109554-2024/
END:VEVENT
BEGIN:VEVENT
UID:77d611c7e84d7576@ausschreibungsradar.com
DTSTAMP:20260426T004712Z
DTSTART;VALUE=DATE:20250127
DTEND;VALUE=DATE:20250127
SUMMARY:Vergabeergebnis — Zimmerarbeiten für das Hallenfreibad Bochum Linden
DESCRIPTION:Phase: Vergabeergebnis | Beschreibung: Auftrag wurde zugeschlagen | Link: https://ausschreibungsradar.com/ausschreibung/93f8beb6-c4e5-4588-a775-df516f41a17c/
URL:https://ausschreibungsradar.com/ausschreibung/93f8beb6-c4e5-4588-a775-df516f41a17c/
END:VEVENT
END:VCALENDAR
