BEGIN:VCALENDAR
VERSION:2.0
PRODID:-//AusschreibungsRadar//Timeline//DE
CALSCALE:GREGORIAN
METHOD:PUBLISH
X-WR-CALNAME:Projekt Erweiterung des Rathauses in Neufahrn bei Freising - Tragwer
X-WR-TIMEZONE:Europe/Berlin
BEGIN:VEVENT
UID:cee19ad2493a2916@ausschreibungsradar.com
DTSTAMP:20260425T180857Z
DTSTART;VALUE=DATE:20240522
DTEND;VALUE=DATE:20240522
SUMMARY:Ausschreibung — Erweiterung des Rathauses in Neufahrn bei Freising - Tragwer
DESCRIPTION:Phase: Ausschreibung | Beschreibung: Angebote werden eingeholt | Link: https://ausschreibungsradar.com/ausschreibung/c04143c3-8137-4fbf-94df-e3b3b00cffe3/
URL:https://ausschreibungsradar.com/ausschreibung/c04143c3-8137-4fbf-94df-e3b3b00cffe3/
END:VEVENT
BEGIN:VEVENT
UID:317678ed8471336d@ausschreibungsradar.com
DTSTAMP:20260425T180857Z
DTSTART;VALUE=DATE:20250220
DTEND;VALUE=DATE:20250220
SUMMARY:Vergabeergebnis — Erweiterung des Rathauses in Neufahrn bei Freising - Tragwer
DESCRIPTION:Phase: Vergabeergebnis | Beschreibung: Auftrag wurde zugeschlagen | Link: https://ausschreibungsradar.com/ausschreibung/d0eccb21-6a6d-4490-8d3d-d54b109cf4ab/
URL:https://ausschreibungsradar.com/ausschreibung/d0eccb21-6a6d-4490-8d3d-d54b109cf4ab/
END:VEVENT
BEGIN:VEVENT
UID:1839a58f7c1a93bf@ausschreibungsradar.com
DTSTAMP:20260425T180857Z
DTSTART;VALUE=DATE:20250220
DTEND;VALUE=DATE:20250220
SUMMARY:Zuschlag — Erweiterung des Rathauses in Neufahrn bei Freising - Tragwer
DESCRIPTION:Phase: Zuschlag | Beschreibung: Vergabeergebnis — Auftrag wurde erteilt oder Verfahren beendet. | Link: https://ausschreibungsradar.com/ausschreibung/9eb5a34a-4ac3-4369-bc77-8e58c30459a9/
URL:https://ausschreibungsradar.com/ausschreibung/9eb5a34a-4ac3-4369-bc77-8e58c30459a9/
END:VEVENT
END:VCALENDAR
