BEGIN:VCALENDAR
VERSION:2.0
PRODID:-//AusschreibungsRadar//Timeline//DE
CALSCALE:GREGORIAN
METHOD:PUBLISH
X-WR-CALNAME:Projekt Lieferung von 3 Tanklöschfahrzeugen 3000 - TLF 3000
X-WR-TIMEZONE:Europe/Berlin
BEGIN:VEVENT
UID:76c87bff9fdb5615@ausschreibungsradar.com
DTSTAMP:20260425T180244Z
DTSTART;VALUE=DATE:20250714
DTEND;VALUE=DATE:20250714
SUMMARY:Angebotsfrist — Lieferung von 3 Tanklöschfahrzeugen 3000 - TLF 3000
DESCRIPTION:Phase: Ausschreibung | Beschreibung: Angebote werden eingeholt | Link: https://ausschreibungsradar.com/ausschreibung/d2a041dd-8b07-4f48-9f98-41c288a8c2be/ | Geschätzter Wert: 1618000 €
URL:https://ausschreibungsradar.com/ausschreibung/d2a041dd-8b07-4f48-9f98-41c288a8c2be/
END:VEVENT
BEGIN:VEVENT
UID:8f3eda05805d356d@ausschreibungsradar.com
DTSTAMP:20260425T180244Z
DTSTART;VALUE=DATE:20250515
DTEND;VALUE=DATE:20250515
SUMMARY:Ausschreibung — Lieferung von 3 Tanklöschfahrzeugen 3000 - TLF 3000
DESCRIPTION:Phase: Ausschreibung | Beschreibung: Offizielle Ausschreibung mit Bieterfrist. | Link: https://ausschreibungsradar.com/ausschreibung/0f84492d-9056-4dcf-879e-2e597ab503fe/
URL:https://ausschreibungsradar.com/ausschreibung/0f84492d-9056-4dcf-879e-2e597ab503fe/
END:VEVENT
BEGIN:VEVENT
UID:152c7a6277b1a6fa@ausschreibungsradar.com
DTSTAMP:20260425T180244Z
DTSTART;VALUE=DATE:20250515
DTEND;VALUE=DATE:20250515
SUMMARY:Ausschreibung — Lieferung von 3 Tanklöschfahrzeugen 3000 - TLF 3000
DESCRIPTION:Phase: Ausschreibung | Beschreibung: Offizielle Ausschreibung mit Bieterfrist. | Link: https://ausschreibungsradar.com/ausschreibung/6f8ed6fd-09c9-4f36-acb9-414df60e5c24/
URL:https://ausschreibungsradar.com/ausschreibung/6f8ed6fd-09c9-4f36-acb9-414df60e5c24/
END:VEVENT
BEGIN:VEVENT
UID:425458df6d77c2cb@ausschreibungsradar.com
DTSTAMP:20260425T180244Z
DTSTART;VALUE=DATE:20251007
DTEND;VALUE=DATE:20251007
SUMMARY:Vergabeergebnis — Lieferung von 3 Tanklöschfahrzeugen 3000 - TLF 3000
DESCRIPTION:Phase: Vergabeergebnis | Beschreibung: Auftrag wurde zugeschlagen | Link: https://ausschreibungsradar.com/ausschreibung/0957fb42-5755-48f8-a1c1-6d933c179b26/ | Geschätzter Wert: 1618000 €
URL:https://ausschreibungsradar.com/ausschreibung/0957fb42-5755-48f8-a1c1-6d933c179b26/
END:VEVENT
END:VCALENDAR
