BEGIN:VCALENDAR
VERSION:2.0
PRODID:-//AusschreibungsRadar//Timeline//DE
CALSCALE:GREGORIAN
METHOD:PUBLISH
X-WR-CALNAME:Projekt Qualifikationspartner
X-WR-TIMEZONE:Europe/Berlin
BEGIN:VEVENT
UID:e3563ac723b9eb14@ausschreibungsradar.com
DTSTAMP:20260424T142843Z
DTSTART;VALUE=DATE:20250821
DTEND;VALUE=DATE:20250821
SUMMARY:Angebotsfrist — Qualifikationspartner
DESCRIPTION:Phase: Ausschreibung | Beschreibung: Angebote werden eingeholt | Link: https://ausschreibungsradar.com/ausschreibung/3d75eff6-85de-40db-b0a2-316669b67a1e/
URL:https://ausschreibungsradar.com/ausschreibung/3d75eff6-85de-40db-b0a2-316669b67a1e/
END:VEVENT
BEGIN:VEVENT
UID:e2def2150ae61bd9@ausschreibungsradar.com
DTSTAMP:20260424T142843Z
DTSTART;VALUE=DATE:20250707
DTEND;VALUE=DATE:20250707
SUMMARY:Ausschreibung — Qualifikationspartner
DESCRIPTION:Phase: Ausschreibung | Beschreibung: Offizielle Ausschreibung mit Bieterfrist. | Link: https://ausschreibungsradar.com/ausschreibung/4ae26ae0-c2a9-43e3-9e15-b7c69b254bb2/
URL:https://ausschreibungsradar.com/ausschreibung/4ae26ae0-c2a9-43e3-9e15-b7c69b254bb2/
END:VEVENT
BEGIN:VEVENT
UID:22cbbaf81549137e@ausschreibungsradar.com
DTSTAMP:20260424T142843Z
DTSTART;VALUE=DATE:20251110
DTEND;VALUE=DATE:20251110
SUMMARY:Vergabeergebnis — Qualifikationspartner
DESCRIPTION:Phase: Vergabeergebnis | Beschreibung: Auftrag wurde zugeschlagen | Link: https://ausschreibungsradar.com/ausschreibung/d34ffefe-52e9-4103-a263-91e3e73d2cf5/
URL:https://ausschreibungsradar.com/ausschreibung/d34ffefe-52e9-4103-a263-91e3e73d2cf5/
END:VEVENT
END:VCALENDAR
