BEGIN:VCALENDAR
VERSION:2.0
PRODID:-//AusschreibungsRadar//Timeline//DE
CALSCALE:GREGORIAN
METHOD:PUBLISH
X-WR-CALNAME:Projekt Germaniumoxid
X-WR-TIMEZONE:Europe/Berlin
BEGIN:VEVENT
UID:e9a61de3310119b9@ausschreibungsradar.com
DTSTAMP:20260424T054609Z
DTSTART;VALUE=DATE:20260217
DTEND;VALUE=DATE:20260217
SUMMARY:Angebotsfrist — Germaniumoxid
DESCRIPTION:Phase: Ausschreibung | Beschreibung: Angebote werden eingeholt | Link: https://ausschreibungsradar.com/ausschreibung/d3a1a5d8-ff7b-488a-97be-2d53a67b026c/
URL:https://ausschreibungsradar.com/ausschreibung/d3a1a5d8-ff7b-488a-97be-2d53a67b026c/
END:VEVENT
BEGIN:VEVENT
UID:ba74ea26ef2c0188@ausschreibungsradar.com
DTSTAMP:20260424T054609Z
DTSTART;VALUE=DATE:20260312
DTEND;VALUE=DATE:20260312
SUMMARY:Vergabeergebnis — Germaniumoxid
DESCRIPTION:Phase: Vergabeergebnis | Beschreibung: Auftrag wurde zugeschlagen | Link: https://ausschreibungsradar.com/ausschreibung/0284b8c0-ae8d-4b0b-9843-df59790ec3b2/
URL:https://ausschreibungsradar.com/ausschreibung/0284b8c0-ae8d-4b0b-9843-df59790ec3b2/
END:VEVENT
END:VCALENDAR
