BEGIN:VCALENDAR
VERSION:2.0
PRODID:-//AusschreibungsRadar//Timeline//DE
CALSCALE:GREGORIAN
METHOD:PUBLISH
X-WR-CALNAME:Projekt Rahmenvereinbarung Umbau / Sanierung Gebäudebestand Klinikum
X-WR-TIMEZONE:Europe/Berlin
BEGIN:VEVENT
UID:c0e1daf6fa7e5859@ausschreibungsradar.com
DTSTAMP:20260424T115432Z
DTSTART;VALUE=DATE:20250803
DTEND;VALUE=DATE:20250803
SUMMARY:Ausschreibung — Rahmenvereinbarung Umbau / Sanierung Gebäudebestand Klinikum
DESCRIPTION:Phase: Ausschreibung | Beschreibung: Angebote werden eingeholt | Link: https://ausschreibungsradar.com/ausschreibung/80a438e4-03ec-4345-afc0-7366341cf94b/
URL:https://ausschreibungsradar.com/ausschreibung/80a438e4-03ec-4345-afc0-7366341cf94b/
END:VEVENT
BEGIN:VEVENT
UID:e7092eb0b3912ee9@ausschreibungsradar.com
DTSTAMP:20260424T115432Z
DTSTART;VALUE=DATE:20260108
DTEND;VALUE=DATE:20260108
SUMMARY:Zuschlag — Rahmenvereinbarung Umbau / Sanierung Gebäudebestand Klinikum
DESCRIPTION:Phase: Zuschlag | Beschreibung: Vergabeergebnis — Auftrag wurde erteilt oder Verfahren beendet. | Link: https://ausschreibungsradar.com/ausschreibung/642e824e-a4d7-4040-9f44-af96f5856310/
URL:https://ausschreibungsradar.com/ausschreibung/642e824e-a4d7-4040-9f44-af96f5856310/
END:VEVENT
BEGIN:VEVENT
UID:0733e9efb09c7abb@ausschreibungsradar.com
DTSTAMP:20260424T115432Z
DTSTART;VALUE=DATE:20260108
DTEND;VALUE=DATE:20260108
SUMMARY:Zuschlag — Rahmenvereinbarung Umbau / Sanierung Gebäudebestand Klinikum
DESCRIPTION:Phase: Zuschlag | Beschreibung: Vergabeergebnis — Auftrag wurde erteilt oder Verfahren beendet. | Link: https://ausschreibungsradar.com/ausschreibung/ef50284c-61c4-4454-8647-8a5ca885e5f3/
URL:https://ausschreibungsradar.com/ausschreibung/ef50284c-61c4-4454-8647-8a5ca885e5f3/
END:VEVENT
BEGIN:VEVENT
UID:a22481fdd379a19b@ausschreibungsradar.com
DTSTAMP:20260424T115432Z
DTSTART;VALUE=DATE:20260110
DTEND;VALUE=DATE:20260110
SUMMARY:Vergabeergebnis — Rahmenvereinbarung Umbau / Sanierung Gebäudebestand Klinikum
DESCRIPTION:Phase: Vergabeergebnis | Beschreibung: Auftrag wurde zugeschlagen | Link: https://ausschreibungsradar.com/ausschreibung/d3db4d5d-9a0e-49db-9b4c-36a91937a177/
URL:https://ausschreibungsradar.com/ausschreibung/d3db4d5d-9a0e-49db-9b4c-36a91937a177/
END:VEVENT
END:VCALENDAR
