BEGIN:VCALENDAR
VERSION:2.0
PRODID:-//AusschreibungsRadar//Timeline//DE
CALSCALE:GREGORIAN
METHOD:PUBLISH
X-WR-CALNAME:Projekt Erweiterung und Sanierung Grundschule JWS-GMS Maichingen - F
X-WR-TIMEZONE:Europe/Berlin
BEGIN:VEVENT
UID:25c34df67c8e84e6@ausschreibungsradar.com
DTSTAMP:20260424T002533Z
DTSTART;VALUE=DATE:20260417
DTEND;VALUE=DATE:20260417
SUMMARY:Angebotsfrist — Erweiterung und Sanierung Grundschule JWS-GMS Maichingen - F
DESCRIPTION:Phase: Ausschreibung | Beschreibung: Angebote werden eingeholt | Link: https://ausschreibungsradar.com/ausschreibung/d3f3fe35-d86e-4f2f-955d-a59fd6d5ecee/
URL:https://ausschreibungsradar.com/ausschreibung/d3f3fe35-d86e-4f2f-955d-a59fd6d5ecee/
END:VEVENT
BEGIN:VEVENT
UID:f3c14567e998ed8a@ausschreibungsradar.com
DTSTAMP:20260424T002533Z
DTSTART;VALUE=DATE:20260315
DTEND;VALUE=DATE:20260315
SUMMARY:Ausschreibung — Erweiterung und Sanierung Grundschule JWS-GMS Maichingen - F
DESCRIPTION:Phase: Ausschreibung | Beschreibung: Offizielle Ausschreibung mit Bieterfrist. | Link: https://ausschreibungsradar.com/ausschreibung/98821775-213f-4b63-8ffa-80c1e4ec769b/
URL:https://ausschreibungsradar.com/ausschreibung/98821775-213f-4b63-8ffa-80c1e4ec769b/
END:VEVENT
BEGIN:VEVENT
UID:b5417af8b9f17ddd@ausschreibungsradar.com
DTSTAMP:20260424T002533Z
DTSTART;VALUE=DATE:20260315
DTEND;VALUE=DATE:20260315
SUMMARY:Ausschreibung — Erweiterung und Sanierung Grundschule JWS-GMS Maichingen - F
DESCRIPTION:Phase: Ausschreibung | Beschreibung: Offizielle Ausschreibung mit Bieterfrist. | Link: https://ausschreibungsradar.com/ausschreibung/51725133-149e-4b55-bffb-8df773acd125/
URL:https://ausschreibungsradar.com/ausschreibung/51725133-149e-4b55-bffb-8df773acd125/
END:VEVENT
BEGIN:VEVENT
UID:9585efddfbbd69e9@ausschreibungsradar.com
DTSTAMP:20260424T002533Z
DTSTART;VALUE=DATE:20260320
DTEND;VALUE=DATE:20260320
SUMMARY:Ausschreibung — Erweiterung und Sanierung Grundschule JWS-GMS Maichingen - F
DESCRIPTION:Phase: Ausschreibung | Beschreibung: Offizielle Ausschreibung mit Bieterfrist. | Link: https://ausschreibungsradar.com/ausschreibung/fbed40e3-9b75-49a7-801c-96f2589be56d/
URL:https://ausschreibungsradar.com/ausschreibung/fbed40e3-9b75-49a7-801c-96f2589be56d/
END:VEVENT
BEGIN:VEVENT
UID:dadbe9a4afeaaac7@ausschreibungsradar.com
DTSTAMP:20260424T002533Z
DTSTART;VALUE=DATE:20260320
DTEND;VALUE=DATE:20260320
SUMMARY:Ausschreibung — Erweiterung und Sanierung Grundschule JWS-GMS Maichingen - F
DESCRIPTION:Phase: Ausschreibung | Beschreibung: Offizielle Ausschreibung mit Bieterfrist. | Link: https://ausschreibungsradar.com/ausschreibung/c644eb20-f30c-444a-bf78-1f78823889b5/
URL:https://ausschreibungsradar.com/ausschreibung/c644eb20-f30c-444a-bf78-1f78823889b5/
END:VEVENT
BEGIN:VEVENT
UID:dcb0afda2ba7ae3d@ausschreibungsradar.com
DTSTAMP:20260424T002533Z
DTSTART;VALUE=DATE:20260320
DTEND;VALUE=DATE:20260320
SUMMARY:Ausschreibung — Erweiterung und Sanierung Grundschule JWS-GMS Maichingen - F
DESCRIPTION:Phase: Ausschreibung | Beschreibung: Offizielle Ausschreibung mit Bieterfrist. | Link: https://ausschreibungsradar.com/ausschreibung/2ecdb540-205b-458f-afa3-1d4f22918567/
URL:https://ausschreibungsradar.com/ausschreibung/2ecdb540-205b-458f-afa3-1d4f22918567/
END:VEVENT
END:VCALENDAR
