BEGIN:VCALENDAR
VERSION:2.0
PRODID:-//AusschreibungsRadar//Timeline//DE
CALSCALE:GREGORIAN
METHOD:PUBLISH
X-WR-CALNAME:Projekt Planung der Technischen Ausrüstung, Anlagengruppen 1-3
X-WR-TIMEZONE:Europe/Berlin
BEGIN:VEVENT
UID:e484d2f638c29c5e@ausschreibungsradar.com
DTSTAMP:20260424T121802Z
DTSTART;VALUE=DATE:20250410
DTEND;VALUE=DATE:20250410
SUMMARY:Ausschreibung — Planung der Technischen Ausrüstung\, Anlagengruppen 1-3
DESCRIPTION:Phase: Ausschreibung | Beschreibung: Angebote werden eingeholt | Link: https://ausschreibungsradar.com/ausschreibung/5f8659d4-df81-49c8-a23a-82c729691ab6/
URL:https://ausschreibungsradar.com/ausschreibung/5f8659d4-df81-49c8-a23a-82c729691ab6/
END:VEVENT
BEGIN:VEVENT
UID:ff03732785237615@ausschreibungsradar.com
DTSTAMP:20260424T121802Z
DTSTART;VALUE=DATE:20250718
DTEND;VALUE=DATE:20250718
SUMMARY:Vergabeergebnis — Planung der Technischen Ausrüstung\, Anlagengruppen 1-3
DESCRIPTION:Phase: Vergabeergebnis | Beschreibung: Auftrag wurde zugeschlagen | Link: https://ausschreibungsradar.com/ausschreibung/d41cc5d6-3c8b-442e-8efa-fd2ff36e6de3/
URL:https://ausschreibungsradar.com/ausschreibung/d41cc5d6-3c8b-442e-8efa-fd2ff36e6de3/
END:VEVENT
END:VCALENDAR
