BEGIN:VCALENDAR
VERSION:2.0
PRODID:-//AusschreibungsRadar//Timeline//DE
CALSCALE:GREGORIAN
METHOD:PUBLISH
X-WR-CALNAME:Projekt Gerüstarbeiten (Aufstockung Oberschule)
X-WR-TIMEZONE:Europe/Berlin
BEGIN:VEVENT
UID:64e61958d76189a9@ausschreibungsradar.com
DTSTAMP:20260425T115442Z
DTSTART;VALUE=DATE:20260512
DTEND;VALUE=DATE:20260512
SUMMARY:Angebotsfrist — Gerüstarbeiten (Aufstockung Oberschule)
DESCRIPTION:Phase: Ausschreibung | Beschreibung: Angebote werden eingeholt | Link: https://ausschreibungsradar.com/ausschreibung/d4297444-2737-4c6b-901c-77c8a79cc02b/
URL:https://ausschreibungsradar.com/ausschreibung/d4297444-2737-4c6b-901c-77c8a79cc02b/
END:VEVENT
END:VCALENDAR
