BEGIN:VCALENDAR
VERSION:2.0
PRODID:-//AusschreibungsRadar//Timeline//DE
CALSCALE:GREGORIAN
METHOD:PUBLISH
X-WR-CALNAME:Projekt E-MSR-Technik Neubau Rheindüker
X-WR-TIMEZONE:Europe/Berlin
BEGIN:VEVENT
UID:2e7713cf8a8ca716@ausschreibungsradar.com
DTSTAMP:20260425T194004Z
DTSTART;VALUE=DATE:20250918
DTEND;VALUE=DATE:20250918
SUMMARY:Angebotsfrist — E-MSR-Technik Neubau Rheindüker
DESCRIPTION:Phase: Ausschreibung | Beschreibung: Angebote werden eingeholt | Link: https://ausschreibungsradar.com/ausschreibung/9c9f8407-64c4-4a1e-be21-9648bdba8650/
URL:https://ausschreibungsradar.com/ausschreibung/9c9f8407-64c4-4a1e-be21-9648bdba8650/
END:VEVENT
BEGIN:VEVENT
UID:7abf1d7f85a7ebdb@ausschreibungsradar.com
DTSTAMP:20260425T194004Z
DTSTART;VALUE=DATE:20251018
DTEND;VALUE=DATE:20251018
SUMMARY:Vergabeergebnis — E-MSR-Technik Neubau Rheindüker
DESCRIPTION:Phase: Vergabeergebnis | Beschreibung: Sonstige Gründe | Link: https://ausschreibungsradar.com/ausschreibung/d42c4f17-1a44-42b4-9b09-39d88ca0e4d2/
URL:https://ausschreibungsradar.com/ausschreibung/d42c4f17-1a44-42b4-9b09-39d88ca0e4d2/
END:VEVENT
BEGIN:VEVENT
UID:5a837d100f505e31@ausschreibungsradar.com
DTSTAMP:20260425T194004Z
DTSTART;VALUE=DATE:20251031
DTEND;VALUE=DATE:20251031
SUMMARY:Ausschreibung — E-MSR-Technik Neubau Rheindüker
DESCRIPTION:Phase: Ausschreibung | Beschreibung: Offizielle Ausschreibung mit Bieterfrist. | Link: https://ausschreibungsradar.com/ausschreibung/18dd1e8f-4e02-436f-85b9-87cf14673efd/
URL:https://ausschreibungsradar.com/ausschreibung/18dd1e8f-4e02-436f-85b9-87cf14673efd/
END:VEVENT
END:VCALENDAR
