BEGIN:VCALENDAR
VERSION:2.0
PRODID:-//AusschreibungsRadar//Timeline//DE
CALSCALE:GREGORIAN
METHOD:PUBLISH
X-WR-CALNAME:Projekt Energetische Sanierung Mehrzweckhalle Mehren, Los 1: Objektp
X-WR-TIMEZONE:Europe/Berlin
BEGIN:VEVENT
UID:cc3297c8a185c93e@ausschreibungsradar.com
DTSTAMP:20260425T023848Z
DTSTART;VALUE=DATE:20250429
DTEND;VALUE=DATE:20250429
SUMMARY:Ausschreibung — Energetische Sanierung Mehrzweckhalle Mehren\, Los 1: Objektp
DESCRIPTION:Phase: Ausschreibung | Beschreibung: Angebote werden eingeholt | Link: https://ausschreibungsradar.com/ausschreibung/ae7ec420-c06e-4db4-89c7-bbaf70c6f8c9/
URL:https://ausschreibungsradar.com/ausschreibung/ae7ec420-c06e-4db4-89c7-bbaf70c6f8c9/
END:VEVENT
BEGIN:VEVENT
UID:9457bfa0c6a79011@ausschreibungsradar.com
DTSTAMP:20260425T023848Z
DTSTART;VALUE=DATE:20250922
DTEND;VALUE=DATE:20250922
SUMMARY:Vergabeergebnis — Energetische Sanierung Mehrzweckhalle Mehren\, Los 1: Objektp
DESCRIPTION:Phase: Vergabeergebnis | Beschreibung: Auftrag wurde zugeschlagen | Link: https://ausschreibungsradar.com/ausschreibung/d4a03378-3569-41fc-ba76-96de96f27713/
URL:https://ausschreibungsradar.com/ausschreibung/d4a03378-3569-41fc-ba76-96de96f27713/
END:VEVENT
BEGIN:VEVENT
UID:c995f351468d02ab@ausschreibungsradar.com
DTSTAMP:20260425T023848Z
DTSTART;VALUE=DATE:20250922
DTEND;VALUE=DATE:20250922
SUMMARY:Zuschlag — Energetische Sanierung Mehrzweckhalle Mehren\, Los 1: Objektp
DESCRIPTION:Phase: Zuschlag | Beschreibung: Vergabeergebnis — Auftrag wurde erteilt oder Verfahren beendet. | Link: https://ausschreibungsradar.com/ausschreibung/95297706-5034-4d97-a047-c09b0a3549a5/
URL:https://ausschreibungsradar.com/ausschreibung/95297706-5034-4d97-a047-c09b0a3549a5/
END:VEVENT
END:VCALENDAR
