BEGIN:VCALENDAR
VERSION:2.0
PRODID:-//AusschreibungsRadar//Timeline//DE
CALSCALE:GREGORIAN
METHOD:PUBLISH
X-WR-CALNAME:Projekt Beschaffung Microsoft-SA-Lizenzen
X-WR-TIMEZONE:Europe/Berlin
BEGIN:VEVENT
UID:a759810d3bc75c8e@ausschreibungsradar.com
DTSTAMP:20260424T194107Z
DTSTART;VALUE=DATE:20250130
DTEND;VALUE=DATE:20250130
SUMMARY:Ausschreibung — Beschaffung Microsoft-SA-Lizenzen
DESCRIPTION:Phase: Ausschreibung | Beschreibung: Angebote werden eingeholt | Link: https://ausschreibungsradar.com/ausschreibung/3ec995a3-9577-4dcd-a0ab-a879bca783d2/ | Geschätzter Wert: 1000 €
URL:https://ausschreibungsradar.com/ausschreibung/3ec995a3-9577-4dcd-a0ab-a879bca783d2/
END:VEVENT
BEGIN:VEVENT
UID:b10cab6ffabcad47@ausschreibungsradar.com
DTSTAMP:20260424T194107Z
DTSTART;VALUE=DATE:20250130
DTEND;VALUE=DATE:20250130
SUMMARY:Ausschreibung — Beschaffung Microsoft-SA-Lizenzen
DESCRIPTION:Phase: Ausschreibung | Beschreibung: Offizielle Ausschreibung mit Bieterfrist. | Link: https://ausschreibungsradar.com/ausschreibung/55c150b2-c088-45f7-b0b5-39c0777bb160/
URL:https://ausschreibungsradar.com/ausschreibung/55c150b2-c088-45f7-b0b5-39c0777bb160/
END:VEVENT
BEGIN:VEVENT
UID:0bf446ffc72b8848@ausschreibungsradar.com
DTSTAMP:20260424T194107Z
DTSTART;VALUE=DATE:20250326
DTEND;VALUE=DATE:20250326
SUMMARY:Vergabeergebnis — Beschaffung Microsoft-SA-Lizenzen
DESCRIPTION:Phase: Vergabeergebnis | Beschreibung: Auftrag wurde zugeschlagen | Link: https://ausschreibungsradar.com/ausschreibung/d50b0426-0c72-4f2c-a5cb-25ac69fa55da/ | Geschätzter Wert: 1000 €
URL:https://ausschreibungsradar.com/ausschreibung/d50b0426-0c72-4f2c-a5cb-25ac69fa55da/
END:VEVENT
END:VCALENDAR
