BEGIN:VCALENDAR
VERSION:2.0
PRODID:-//AusschreibungsRadar//Timeline//DE
CALSCALE:GREGORIAN
METHOD:PUBLISH
X-WR-CALNAME:Projekt 174+175+204, Neubau von 3 KFZ-Hallen (frostfrei)

Stetten a.
X-WR-TIMEZONE:Europe/Berlin
BEGIN:VEVENT
UID:76146ef0f61280f6@ausschreibungsradar.com
DTSTAMP:20260425T110442Z
DTSTART;VALUE=DATE:20251016
DTEND;VALUE=DATE:20251016
SUMMARY:Angebotsfrist — 174+175+204\, Neubau von 3 KFZ-Hallen (frostfrei)\n\nStetten a.
DESCRIPTION:Phase: Ausschreibung | Beschreibung: Angebote werden eingeholt | Link: https://ausschreibungsradar.com/ausschreibung/a4af4c97-7650-4d1b-9247-1a4904857bc2/ | Geschätzter Wert: 2532506 €
URL:https://ausschreibungsradar.com/ausschreibung/a4af4c97-7650-4d1b-9247-1a4904857bc2/
END:VEVENT
BEGIN:VEVENT
UID:c8c1caabc432e960@ausschreibungsradar.com
DTSTAMP:20260425T110442Z
DTSTART;VALUE=DATE:20251120
DTEND;VALUE=DATE:20251120
SUMMARY:Vergabeergebnis — 174+175+204\, Neubau von 3 KFZ-Hallen (frostfrei)\n\nStetten a.
DESCRIPTION:Phase: Vergabeergebnis | Beschreibung: Auftrag wurde zugeschlagen | Link: https://ausschreibungsradar.com/ausschreibung/d56b0e62-d887-4adc-bb51-afa15df4da41/ | Geschätzter Wert: 2532506 €
URL:https://ausschreibungsradar.com/ausschreibung/d56b0e62-d887-4adc-bb51-afa15df4da41/
END:VEVENT
END:VCALENDAR
