BEGIN:VCALENDAR
VERSION:2.0
PRODID:-//AusschreibungsRadar//Timeline//DE
CALSCALE:GREGORIAN
METHOD:PUBLISH
X-WR-CALNAME:Projekt Ausschreibung von 001a Gerüstarbeiten für den Neubau der Feu
X-WR-TIMEZONE:Europe/Berlin
BEGIN:VEVENT
UID:127beadba29133d2@ausschreibungsradar.com
DTSTAMP:20260425T160245Z
DTSTART;VALUE=DATE:20250228
DTEND;VALUE=DATE:20250228
SUMMARY:Ausschreibung — Ausschreibung von 001a Gerüstarbeiten für den Neubau der Feu
DESCRIPTION:Phase: Ausschreibung | Beschreibung: Offizielle Ausschreibung mit Bieterfrist. | Link: https://ausschreibungsradar.com/ausschreibung/39a0ff16-b89e-4bbe-a358-f36d972f38a0/
URL:https://ausschreibungsradar.com/ausschreibung/39a0ff16-b89e-4bbe-a358-f36d972f38a0/
END:VEVENT
BEGIN:VEVENT
UID:2455a8c51214d59c@ausschreibungsradar.com
DTSTAMP:20260425T160245Z
DTSTART;VALUE=DATE:20250328
DTEND;VALUE=DATE:20250328
SUMMARY:Ausschreibung — Ausschreibung von 001a Gerüstarbeiten für den Neubau der Feu
DESCRIPTION:Phase: Ausschreibung | Beschreibung: Offizielle Ausschreibung mit Bieterfrist. | Link: https://ausschreibungsradar.com/ausschreibung/d58fce3e-84c8-4f9d-93ca-27e3ac8d6bae/
URL:https://ausschreibungsradar.com/ausschreibung/d58fce3e-84c8-4f9d-93ca-27e3ac8d6bae/
END:VEVENT
END:VCALENDAR
