BEGIN:VCALENDAR
VERSION:2.0
PRODID:-//AusschreibungsRadar//Timeline//DE
CALSCALE:GREGORIAN
METHOD:PUBLISH
X-WR-CALNAME:Projekt Reinigung der PWC-Anlagen entlang BAB im UB der AM Dorsten (
X-WR-TIMEZONE:Europe/Berlin
BEGIN:VEVENT
UID:5a9f15dfbb3fb891@ausschreibungsradar.com
DTSTAMP:20260426T000106Z
DTSTART;VALUE=DATE:20260205
DTEND;VALUE=DATE:20260205
SUMMARY:Angebotsfrist — Reinigung der PWC-Anlagen entlang BAB im UB der AM Dorsten (
DESCRIPTION:Phase: Ausschreibung | Beschreibung: Angebote werden eingeholt | Link: https://ausschreibungsradar.com/ausschreibung/d5aa4517-c5db-4ae7-8ef3-481d793f8d5b/
URL:https://ausschreibungsradar.com/ausschreibung/d5aa4517-c5db-4ae7-8ef3-481d793f8d5b/
END:VEVENT
BEGIN:VEVENT
UID:a8bc8c4d0f49ccc1@ausschreibungsradar.com
DTSTAMP:20260426T000106Z
DTSTART;VALUE=DATE:20260105
DTEND;VALUE=DATE:20260105
SUMMARY:Ausschreibung — Reinigung der PWC-Anlagen entlang BAB im UB der AM Dorsten (
DESCRIPTION:Phase: Ausschreibung | Beschreibung: Offizielle Ausschreibung mit Bieterfrist. | Link: https://ausschreibungsradar.com/ausschreibung/78ed2021-ad5e-4df9-913c-61a84dd4db0b/
URL:https://ausschreibungsradar.com/ausschreibung/78ed2021-ad5e-4df9-913c-61a84dd4db0b/
END:VEVENT
BEGIN:VEVENT
UID:38322abdadf3dc3d@ausschreibungsradar.com
DTSTAMP:20260426T000106Z
DTSTART;VALUE=DATE:20260303
DTEND;VALUE=DATE:20260303
SUMMARY:Vergabeergebnis — Reinigung der PWC-Anlagen entlang BAB im UB der AM Dorsten (
DESCRIPTION:Phase: Vergabeergebnis | Beschreibung: Auftrag wurde zugeschlagen | Link: https://ausschreibungsradar.com/ausschreibung/3b371075-40b3-4f9f-a25d-1335f934837a/
URL:https://ausschreibungsradar.com/ausschreibung/3b371075-40b3-4f9f-a25d-1335f934837a/
END:VEVENT
END:VCALENDAR
