BEGIN:VCALENDAR
VERSION:2.0
PRODID:-//AusschreibungsRadar//Timeline//DE
CALSCALE:GREGORIAN
METHOD:PUBLISH
X-WR-CALNAME:Projekt Schmitten im Taunus: Neubau und Betrieb einer Kindertagesstä
X-WR-TIMEZONE:Europe/Berlin
BEGIN:VEVENT
UID:1fb7a3feb1ce5178@ausschreibungsradar.com
DTSTAMP:20260424T155336Z
DTSTART;VALUE=DATE:20231201
DTEND;VALUE=DATE:20231201
SUMMARY:Ausschreibung — Schmitten im Taunus: Neubau und Betrieb einer Kindertagesstä
DESCRIPTION:Phase: Ausschreibung | Beschreibung: Angebote werden eingeholt | Link: https://ausschreibungsradar.com/ausschreibung/d5fc5146-1b06-4772-a2fc-7a4aba42481f/
URL:https://ausschreibungsradar.com/ausschreibung/d5fc5146-1b06-4772-a2fc-7a4aba42481f/
END:VEVENT
BEGIN:VEVENT
UID:853234c23ca8bf44@ausschreibungsradar.com
DTSTAMP:20260424T155336Z
DTSTART;VALUE=DATE:20231201
DTEND;VALUE=DATE:20231201
SUMMARY:Ausschreibung — Schmitten im Taunus: Neubau und Betrieb einer Kindertagesstä
DESCRIPTION:Phase: Ausschreibung | Beschreibung: Offizielle Ausschreibung mit Bieterfrist. | Link: https://ausschreibungsradar.com/ausschreibung/cf867510-e050-4e0a-8752-89bff54f03a2/
URL:https://ausschreibungsradar.com/ausschreibung/cf867510-e050-4e0a-8752-89bff54f03a2/
END:VEVENT
END:VCALENDAR
