BEGIN:VCALENDAR
VERSION:2.0
PRODID:-//AusschreibungsRadar//Timeline//DE
CALSCALE:GREGORIAN
METHOD:PUBLISH
X-WR-CALNAME:Projekt Projektierung eines Windparks (Angebotsphase)
X-WR-TIMEZONE:Europe/Berlin
BEGIN:VEVENT
UID:fa98b876f7e71dbf@ausschreibungsradar.com
DTSTAMP:20260426T012958Z
DTSTART;VALUE=DATE:20251208
DTEND;VALUE=DATE:20251208
SUMMARY:Ausschreibung — Projektierung eines Windparks (Angebotsphase)
DESCRIPTION:Phase: Ausschreibung | Beschreibung: Angebote werden eingeholt | Link: https://ausschreibungsradar.com/ausschreibung/89a10895-534f-4a1b-a918-471c92f606c0/
URL:https://ausschreibungsradar.com/ausschreibung/89a10895-534f-4a1b-a918-471c92f606c0/
END:VEVENT
BEGIN:VEVENT
UID:336565f2c4ba23aa@ausschreibungsradar.com
DTSTAMP:20260426T012958Z
DTSTART;VALUE=DATE:20251208
DTEND;VALUE=DATE:20251208
SUMMARY:Ausschreibung — Projektierung eines Windparks (Angebotsphase)
DESCRIPTION:Phase: Ausschreibung | Beschreibung: Offizielle Ausschreibung mit Bieterfrist. | Link: https://ausschreibungsradar.com/ausschreibung/bfadc726-02c4-46ac-84ab-1b9354da0bec/
URL:https://ausschreibungsradar.com/ausschreibung/bfadc726-02c4-46ac-84ab-1b9354da0bec/
END:VEVENT
BEGIN:VEVENT
UID:33b73d8401c91cd1@ausschreibungsradar.com
DTSTAMP:20260426T012958Z
DTSTART;VALUE=DATE:20260319
DTEND;VALUE=DATE:20260319
SUMMARY:Vergabeergebnis — Projektierung eines Windparks (Angebotsphase)
DESCRIPTION:Phase: Vergabeergebnis | Beschreibung: Auftrag wurde zugeschlagen | Link: https://ausschreibungsradar.com/ausschreibung/d6798685-23cf-444a-9e80-c3411ee5e4fe/ | Geschätzter Wert: 450000 €
URL:https://ausschreibungsradar.com/ausschreibung/d6798685-23cf-444a-9e80-c3411ee5e4fe/
END:VEVENT
END:VCALENDAR
