BEGIN:VCALENDAR
VERSION:2.0
PRODID:-//AusschreibungsRadar//Timeline//DE
CALSCALE:GREGORIAN
METHOD:PUBLISH
X-WR-CALNAME:Projekt Arzneimittel mit dem Wirkstoff Aclidiniumbromid (ATC: R03BB0
X-WR-TIMEZONE:Europe/Berlin
BEGIN:VEVENT
UID:f471f5ad6998ec69@ausschreibungsradar.com
DTSTAMP:20260425T162646Z
DTSTART;VALUE=DATE:20280331
DTEND;VALUE=DATE:20280331
SUMMARY:Angebotsfrist — Arzneimittel mit dem Wirkstoff Aclidiniumbromid (ATC: R03BB0
DESCRIPTION:Phase: Ausschreibung | Beschreibung: Angebote werden eingeholt | Link: https://ausschreibungsradar.com/ausschreibung/d6c128ca-c6c0-4f34-aea5-d6e51e417f6d/
URL:https://ausschreibungsradar.com/ausschreibung/d6c128ca-c6c0-4f34-aea5-d6e51e417f6d/
END:VEVENT
BEGIN:VEVENT
UID:034d470f42e4d39a@ausschreibungsradar.com
DTSTAMP:20260425T162646Z
DTSTART;VALUE=DATE:20260306
DTEND;VALUE=DATE:20260306
SUMMARY:Ausschreibung — Arzneimittel mit dem Wirkstoff Aclidiniumbromid (ATC: R03BB0
DESCRIPTION:Phase: Ausschreibung | Beschreibung: Offizielle Ausschreibung mit Bieterfrist. | Link: https://ausschreibungsradar.com/ausschreibung/f9f7604e-a577-476f-af42-62ae65e58d54/
URL:https://ausschreibungsradar.com/ausschreibung/f9f7604e-a577-476f-af42-62ae65e58d54/
END:VEVENT
END:VCALENDAR
