BEGIN:VCALENDAR
VERSION:2.0
PRODID:-//AusschreibungsRadar//Timeline//DE
CALSCALE:GREGORIAN
METHOD:PUBLISH
X-WR-CALNAME:Projekt Zimmerer-, Dachdecker- und Klempnerarbeiten
X-WR-TIMEZONE:Europe/Berlin
BEGIN:VEVENT
UID:1e2c730d1fd9c6e5@ausschreibungsradar.com
DTSTAMP:20260424T081535Z
DTSTART;VALUE=DATE:20250806
DTEND;VALUE=DATE:20250806
SUMMARY:Angebotsfrist — Zimmerer-\, Dachdecker- und Klempnerarbeiten
DESCRIPTION:Phase: Ausschreibung | Beschreibung: Angebote werden eingeholt | Link: https://ausschreibungsradar.com/ausschreibung/d7155fea-41dc-47eb-a491-ba3a18be7d82/
URL:https://ausschreibungsradar.com/ausschreibung/d7155fea-41dc-47eb-a491-ba3a18be7d82/
END:VEVENT
BEGIN:VEVENT
UID:c356f0bb7ce822c3@ausschreibungsradar.com
DTSTAMP:20260424T081535Z
DTSTART;VALUE=DATE:20250911
DTEND;VALUE=DATE:20250911
SUMMARY:Vergabeergebnis — Zimmerer-\, Dachdecker- und Klempnerarbeiten
DESCRIPTION:Phase: Vergabeergebnis | Beschreibung: Auftrag wurde zugeschlagen | Link: https://ausschreibungsradar.com/ausschreibung/676c5520-029d-4d06-9ea1-c30d16c0a28c/ | Auftragnehmer: AC Ingenieurbau Verwaltun
URL:https://ausschreibungsradar.com/ausschreibung/676c5520-029d-4d06-9ea1-c30d16c0a28c/
END:VEVENT
END:VCALENDAR
