BEGIN:VCALENDAR
VERSION:2.0
PRODID:-//AusschreibungsRadar//Timeline//DE
CALSCALE:GREGORIAN
METHOD:PUBLISH
X-WR-CALNAME:Projekt Gemeinde Tappenbeck: Neubau eines Sport- und Gemeinschaftspa
X-WR-TIMEZONE:Europe/Berlin
BEGIN:VEVENT
UID:29c220f0b2aa7008@ausschreibungsradar.com
DTSTAMP:20260425T104304Z
DTSTART;VALUE=DATE:20250822
DTEND;VALUE=DATE:20250822
SUMMARY:Angebotsfrist — Gemeinde Tappenbeck: Neubau eines Sport- und Gemeinschaftspa
DESCRIPTION:Phase: Ausschreibung | Beschreibung: Angebote werden eingeholt | Link: https://ausschreibungsradar.com/ausschreibung/d79c089f-dc2e-4b8d-b341-66c6ce4f1428/
URL:https://ausschreibungsradar.com/ausschreibung/d79c089f-dc2e-4b8d-b341-66c6ce4f1428/
END:VEVENT
BEGIN:VEVENT
UID:06e0e3b6fdbdbf80@ausschreibungsradar.com
DTSTAMP:20260425T104304Z
DTSTART;VALUE=DATE:20250417
DTEND;VALUE=DATE:20250417
SUMMARY:Ausschreibung — Gemeinde Tappenbeck: Neubau eines Sport- und Gemeinschaftspa
DESCRIPTION:Phase: Ausschreibung | Beschreibung: Offizielle Ausschreibung mit Bieterfrist. | Link: https://ausschreibungsradar.com/ausschreibung/73e13ae0-3282-4c58-8038-e820dbd41695/
URL:https://ausschreibungsradar.com/ausschreibung/73e13ae0-3282-4c58-8038-e820dbd41695/
END:VEVENT
BEGIN:VEVENT
UID:5ec7b7764242747e@ausschreibungsradar.com
DTSTAMP:20260425T104304Z
DTSTART;VALUE=DATE:20250417
DTEND;VALUE=DATE:20250417
SUMMARY:Ausschreibung — Gemeinde Tappenbeck: Neubau eines Sport- und Gemeinschaftspa
DESCRIPTION:Phase: Ausschreibung | Beschreibung: Offizielle Ausschreibung mit Bieterfrist. | Link: https://ausschreibungsradar.com/ausschreibung/d81f1bfd-239d-43b4-9e61-de9153c703e3/
URL:https://ausschreibungsradar.com/ausschreibung/d81f1bfd-239d-43b4-9e61-de9153c703e3/
END:VEVENT
BEGIN:VEVENT
UID:8229fd2313149525@ausschreibungsradar.com
DTSTAMP:20260425T104304Z
DTSTART;VALUE=DATE:20250417
DTEND;VALUE=DATE:20250417
SUMMARY:Ausschreibung — Gemeinde Tappenbeck: Neubau eines Sport- und Gemeinschaftspa
DESCRIPTION:Phase: Ausschreibung | Beschreibung: Offizielle Ausschreibung mit Bieterfrist. | Link: https://ausschreibungsradar.com/ausschreibung/13e424bf-4dc6-4bb0-bfdd-130974113536/
URL:https://ausschreibungsradar.com/ausschreibung/13e424bf-4dc6-4bb0-bfdd-130974113536/
END:VEVENT
BEGIN:VEVENT
UID:3984c159e532c8e5@ausschreibungsradar.com
DTSTAMP:20260425T104304Z
DTSTART;VALUE=DATE:20250417
DTEND;VALUE=DATE:20250417
SUMMARY:Ausschreibung — Gemeinde Tappenbeck: Neubau eines Sport- und Gemeinschaftspa
DESCRIPTION:Phase: Ausschreibung | Beschreibung: Offizielle Ausschreibung mit Bieterfrist. | Link: https://ausschreibungsradar.com/ausschreibung/adcd4b4a-6cea-44aa-8465-bc48e4cac483/
URL:https://ausschreibungsradar.com/ausschreibung/adcd4b4a-6cea-44aa-8465-bc48e4cac483/
END:VEVENT
BEGIN:VEVENT
UID:f255a1c1b7a720c1@ausschreibungsradar.com
DTSTAMP:20260425T104304Z
DTSTART;VALUE=DATE:20251021
DTEND;VALUE=DATE:20251021
SUMMARY:Vergabeergebnis — Gemeinde Tappenbeck: Neubau eines Sport- und Gemeinschaftspa
DESCRIPTION:Phase: Vergabeergebnis | Beschreibung: Auftrag wurde zugeschlagen | Link: https://ausschreibungsradar.com/ausschreibung/408b2952-ade4-4493-aeb6-d4be79fb730c/
URL:https://ausschreibungsradar.com/ausschreibung/408b2952-ade4-4493-aeb6-d4be79fb730c/
END:VEVENT
END:VCALENDAR
