BEGIN:VCALENDAR
VERSION:2.0
PRODID:-//AusschreibungsRadar//Timeline//DE
CALSCALE:GREGORIAN
METHOD:PUBLISH
X-WR-CALNAME:Projekt Zimmerer- und Holzbauarbeiten
X-WR-TIMEZONE:Europe/Berlin
BEGIN:VEVENT
UID:620b320ff3daca01@ausschreibungsradar.com
DTSTAMP:20260425T003647Z
DTSTART;VALUE=DATE:20260429
DTEND;VALUE=DATE:20260429
SUMMARY:Angebotsfrist — Zimmerer- und Holzbauarbeiten
DESCRIPTION:Phase: Ausschreibung | Beschreibung: Angebote werden eingeholt | Link: https://ausschreibungsradar.com/ausschreibung/d8170a20-8e3b-4041-ab01-ca7ca4521cd4/
URL:https://ausschreibungsradar.com/ausschreibung/d8170a20-8e3b-4041-ab01-ca7ca4521cd4/
END:VEVENT
END:VCALENDAR
