BEGIN:VCALENDAR
VERSION:2.0
PRODID:-//AusschreibungsRadar//Timeline//DE
CALSCALE:GREGORIAN
METHOD:PUBLISH
X-WR-CALNAME:Projekt Wiesbaden Congress & Marketing GmbH, Vergabe Reinigungsleist
X-WR-TIMEZONE:Europe/Berlin
BEGIN:VEVENT
UID:a52d81ca951ac3a4@ausschreibungsradar.com
DTSTAMP:20260425T193915Z
DTSTART;VALUE=DATE:20260220
DTEND;VALUE=DATE:20260220
SUMMARY:Angebotsfrist — Wiesbaden Congress & Marketing GmbH\, Vergabe Reinigungsleist
DESCRIPTION:Phase: Ausschreibung | Beschreibung: Angebote werden eingeholt | Link: https://ausschreibungsradar.com/ausschreibung/d895502f-f29a-4b71-92cd-2fbff6aedef0/
URL:https://ausschreibungsradar.com/ausschreibung/d895502f-f29a-4b71-92cd-2fbff6aedef0/
END:VEVENT
BEGIN:VEVENT
UID:ce69362e6d6ffc40@ausschreibungsradar.com
DTSTAMP:20260425T193915Z
DTSTART;VALUE=DATE:20260116
DTEND;VALUE=DATE:20260116
SUMMARY:Ausschreibung — Wiesbaden Congress & Marketing GmbH\, Vergabe Reinigungsleist
DESCRIPTION:Phase: Ausschreibung | Beschreibung: Offizielle Ausschreibung mit Bieterfrist. | Link: https://ausschreibungsradar.com/ausschreibung/941076db-3ce3-4e63-aeb0-bc93c351e472/
URL:https://ausschreibungsradar.com/ausschreibung/941076db-3ce3-4e63-aeb0-bc93c351e472/
END:VEVENT
END:VCALENDAR
