BEGIN:VCALENDAR
VERSION:2.0
PRODID:-//AusschreibungsRadar//Timeline//DE
CALSCALE:GREGORIAN
METHOD:PUBLISH
X-WR-CALNAME:Projekt Objektplanung Gebäude (§ 34 HOAI) für Neubau Berufsbildungsz
X-WR-TIMEZONE:Europe/Berlin
BEGIN:VEVENT
UID:66a1f5b60665ab0c@ausschreibungsradar.com
DTSTAMP:20260424T151925Z
DTSTART;VALUE=DATE:20251003
DTEND;VALUE=DATE:20251003
SUMMARY:Ausschreibung — Objektplanung Gebäude (§ 34 HOAI) für Neubau Berufsbildungsz
DESCRIPTION:Phase: Ausschreibung | Beschreibung: Angebote werden eingeholt | Link: https://ausschreibungsradar.com/ausschreibung/d8aa7355-a198-4589-b2e9-321e0c5f9ea9/
URL:https://ausschreibungsradar.com/ausschreibung/d8aa7355-a198-4589-b2e9-321e0c5f9ea9/
END:VEVENT
BEGIN:VEVENT
UID:7c5a672f6df8af51@ausschreibungsradar.com
DTSTAMP:20260424T151925Z
DTSTART;VALUE=DATE:20251003
DTEND;VALUE=DATE:20251003
SUMMARY:Ausschreibung — Objektplanung Gebäude (§ 34 HOAI) für Neubau Berufsbildungsz
DESCRIPTION:Phase: Ausschreibung | Beschreibung: Offizielle Ausschreibung mit Bieterfrist. | Link: https://ausschreibungsradar.com/ausschreibung/f59e33bf-d9e4-490c-b57f-0b6e26fdbcb0/
URL:https://ausschreibungsradar.com/ausschreibung/f59e33bf-d9e4-490c-b57f-0b6e26fdbcb0/
END:VEVENT
BEGIN:VEVENT
UID:f5310edb11e7829b@ausschreibungsradar.com
DTSTAMP:20260424T151925Z
DTSTART;VALUE=DATE:20251006
DTEND;VALUE=DATE:20251006
SUMMARY:Ausschreibung — Objektplanung Gebäude (§ 34 HOAI) für Neubau Berufsbildungsz
DESCRIPTION:Phase: Ausschreibung | Beschreibung: Offizielle Ausschreibung mit Bieterfrist. | Link: https://ausschreibungsradar.com/ausschreibung/ted-652777-2025/
URL:https://ausschreibungsradar.com/ausschreibung/ted-652777-2025/
END:VEVENT
BEGIN:VEVENT
UID:219874118fa3aca2@ausschreibungsradar.com
DTSTAMP:20260424T151925Z
DTSTART;VALUE=DATE:20251007
DTEND;VALUE=DATE:20251007
SUMMARY:Ausschreibung — Objektplanung Gebäude (§ 34 HOAI) für Neubau Berufsbildungsz
DESCRIPTION:Phase: Ausschreibung | Beschreibung: Offizielle Ausschreibung mit Bieterfrist. | Link: https://ausschreibungsradar.com/ausschreibung/ted-654809-2025/
URL:https://ausschreibungsradar.com/ausschreibung/ted-654809-2025/
END:VEVENT
END:VCALENDAR
