BEGIN:VCALENDAR
VERSION:2.0
PRODID:-//AusschreibungsRadar//Timeline//DE
CALSCALE:GREGORIAN
METHOD:PUBLISH
X-WR-CALNAME:Projekt Beschaffung von zwei redundanten Speichersystemen, fünf Netz
X-WR-TIMEZONE:Europe/Berlin
BEGIN:VEVENT
UID:248bcec4970b24e5@ausschreibungsradar.com
DTSTAMP:20260425T102742Z
DTSTART;VALUE=DATE:20240813
DTEND;VALUE=DATE:20240813
SUMMARY:Angebotsfrist — Beschaffung von zwei redundanten Speichersystemen\, fünf Netz
DESCRIPTION:Phase: Ausschreibung | Beschreibung: Angebote werden eingeholt | Link: https://ausschreibungsradar.com/ausschreibung/d8e90d43-d606-4f68-a35b-781de3bf7624/
URL:https://ausschreibungsradar.com/ausschreibung/d8e90d43-d606-4f68-a35b-781de3bf7624/
END:VEVENT
BEGIN:VEVENT
UID:f68f2c521019c536@ausschreibungsradar.com
DTSTAMP:20260425T102742Z
DTSTART;VALUE=DATE:20240702
DTEND;VALUE=DATE:20240702
SUMMARY:Ausschreibung — Beschaffung von zwei redundanten Speichersystemen\, fünf Netz
DESCRIPTION:Phase: Ausschreibung | Beschreibung: Offizielle Ausschreibung mit Bieterfrist. | Link: https://ausschreibungsradar.com/ausschreibung/03592c02-d2c8-4c99-8d53-c2307722a650/
URL:https://ausschreibungsradar.com/ausschreibung/03592c02-d2c8-4c99-8d53-c2307722a650/
END:VEVENT
END:VCALENDAR
