BEGIN:VCALENDAR
VERSION:2.0
PRODID:-//AusschreibungsRadar//Timeline//DE
CALSCALE:GREGORIAN
METHOD:PUBLISH
X-WR-CALNAME:Projekt 3D-C-Bogensystem
X-WR-TIMEZONE:Europe/Berlin
BEGIN:VEVENT
UID:6b0323cbbd3648e8@ausschreibungsradar.com
DTSTAMP:20260424T043004Z
DTSTART;VALUE=DATE:20250714
DTEND;VALUE=DATE:20250714
SUMMARY:Angebotsfrist — 3D-C-Bogensystem
DESCRIPTION:Phase: Ausschreibung | Beschreibung: Angebote werden eingeholt | Link: https://ausschreibungsradar.com/ausschreibung/5a07c00e-6787-49b3-a52b-7fec25ea2317/
URL:https://ausschreibungsradar.com/ausschreibung/5a07c00e-6787-49b3-a52b-7fec25ea2317/
END:VEVENT
BEGIN:VEVENT
UID:6445837a4785f469@ausschreibungsradar.com
DTSTAMP:20260424T043004Z
DTSTART;VALUE=DATE:20250822
DTEND;VALUE=DATE:20250822
SUMMARY:Vergabeergebnis — 3D-C-Bogensystem
DESCRIPTION:Phase: Vergabeergebnis | Beschreibung: Auftrag wurde zugeschlagen | Link: https://ausschreibungsradar.com/ausschreibung/d9152abc-9c06-485d-bbed-27cff186eee2/
URL:https://ausschreibungsradar.com/ausschreibung/d9152abc-9c06-485d-bbed-27cff186eee2/
END:VEVENT
END:VCALENDAR
