BEGIN:VCALENDAR
VERSION:2.0
PRODID:-//AusschreibungsRadar//Timeline//DE
CALSCALE:GREGORIAN
METHOD:PUBLISH
X-WR-CALNAME:Projekt Neubau einer 4-gruppigen Kinderkrippe in Essenbach - Tragwer
X-WR-TIMEZONE:Europe/Berlin
BEGIN:VEVENT
UID:d311556501280568@ausschreibungsradar.com
DTSTAMP:20260425T192401Z
DTSTART;VALUE=DATE:20240917
DTEND;VALUE=DATE:20240917
SUMMARY:Zuschlag — Neubau einer 4-gruppigen Kinderkrippe in Essenbach - Tragwer
DESCRIPTION:Phase: Zuschlag | Beschreibung: Vergabeergebnis — Auftrag wurde erteilt oder Verfahren beendet. | Link: https://ausschreibungsradar.com/ausschreibung/da778fb5-737c-4894-a37d-4754b2e5e09c/ | Geschätzte
URL:https://ausschreibungsradar.com/ausschreibung/da778fb5-737c-4894-a37d-4754b2e5e09c/
END:VEVENT
BEGIN:VEVENT
UID:7d4c5a5a76961428@ausschreibungsradar.com
DTSTAMP:20260425T192401Z
DTSTART;VALUE=DATE:20240917
DTEND;VALUE=DATE:20240917
SUMMARY:Zuschlag — Neubau einer 4-gruppigen Kinderkrippe in Essenbach - Tragwer
DESCRIPTION:Phase: Zuschlag | Beschreibung: Vergabeergebnis — Auftrag wurde erteilt oder Verfahren beendet. | Link: https://ausschreibungsradar.com/ausschreibung/76a33afa-3a68-47b5-9a73-fcf29bdcf17d/
URL:https://ausschreibungsradar.com/ausschreibung/76a33afa-3a68-47b5-9a73-fcf29bdcf17d/
END:VEVENT
END:VCALENDAR
