BEGIN:VCALENDAR
VERSION:2.0
PRODID:-//AusschreibungsRadar//Timeline//DE
CALSCALE:GREGORIAN
METHOD:PUBLISH
X-WR-CALNAME:Projekt Sanierung und Erweiterung Erlebnisbad Senftenberg- Los 2: Ab
X-WR-TIMEZONE:Europe/Berlin
BEGIN:VEVENT
UID:aa96bc35303d9f7b@ausschreibungsradar.com
DTSTAMP:20260425T205932Z
DTSTART;VALUE=DATE:20250708
DTEND;VALUE=DATE:20250708
SUMMARY:Angebotsfrist — Sanierung und Erweiterung Erlebnisbad Senftenberg- Los 2: Ab
DESCRIPTION:Phase: Ausschreibung | Beschreibung: Angebote werden eingeholt | Link: https://ausschreibungsradar.com/ausschreibung/33f68cac-aec1-428e-adef-4bce51e3bbf5/
URL:https://ausschreibungsradar.com/ausschreibung/33f68cac-aec1-428e-adef-4bce51e3bbf5/
END:VEVENT
BEGIN:VEVENT
UID:48b73eea086ed8a7@ausschreibungsradar.com
DTSTAMP:20260425T205932Z
DTSTART;VALUE=DATE:20250827
DTEND;VALUE=DATE:20250827
SUMMARY:Vergabeergebnis — Sanierung und Erweiterung Erlebnisbad Senftenberg- Los 2: Ab
DESCRIPTION:Phase: Vergabeergebnis | Beschreibung: Auftrag wurde zugeschlagen | Link: https://ausschreibungsradar.com/ausschreibung/da9b1f5a-596e-4bc1-8768-44f01c6623b6/
URL:https://ausschreibungsradar.com/ausschreibung/da9b1f5a-596e-4bc1-8768-44f01c6623b6/
END:VEVENT
BEGIN:VEVENT
UID:9bf29fc103e9e48d@ausschreibungsradar.com
DTSTAMP:20260425T205932Z
DTSTART;VALUE=DATE:20250923
DTEND;VALUE=DATE:20250923
SUMMARY:Ausschreibung — Sanierung und Erweiterung Erlebnisbad Senftenberg- Los 2: Ab
DESCRIPTION:Phase: Ausschreibung | Beschreibung: Offizielle Ausschreibung mit Bieterfrist. | Link: https://ausschreibungsradar.com/ausschreibung/24434888/
URL:https://ausschreibungsradar.com/ausschreibung/24434888/
END:VEVENT
END:VCALENDAR
