BEGIN:VCALENDAR
VERSION:2.0
PRODID:-//AusschreibungsRadar//Timeline//DE
CALSCALE:GREGORIAN
METHOD:PUBLISH
X-WR-CALNAME:Projekt OV-Ascheberg-26
X-WR-TIMEZONE:Europe/Berlin
BEGIN:VEVENT
UID:37d91b6625ff7b03@ausschreibungsradar.com
DTSTAMP:20260424T093326Z
DTSTART;VALUE=DATE:20260302
DTEND;VALUE=DATE:20260302
SUMMARY:Angebotsfrist — OV-Ascheberg-26
DESCRIPTION:Phase: Ausschreibung | Beschreibung: Angebote werden eingeholt | Link: https://ausschreibungsradar.com/ausschreibung/db545ad8-9d7f-4e52-b12c-9eb6bb886b36/
URL:https://ausschreibungsradar.com/ausschreibung/db545ad8-9d7f-4e52-b12c-9eb6bb886b36/
END:VEVENT
END:VCALENDAR
