BEGIN:VCALENDAR
VERSION:2.0
PRODID:-//AusschreibungsRadar//Timeline//DE
CALSCALE:GREGORIAN
METHOD:PUBLISH
X-WR-CALNAME:Projekt BvA_Estricharbeiten_Feilitzsch_Generalsanierung und Erweiter
X-WR-TIMEZONE:Europe/Berlin
BEGIN:VEVENT
UID:a5942b5d32ed162a@ausschreibungsradar.com
DTSTAMP:20260426T003956Z
DTSTART;VALUE=DATE:20240321
DTEND;VALUE=DATE:20240321
SUMMARY:Angebotsfrist — BvA_Estricharbeiten_Feilitzsch_Generalsanierung und Erweiter
DESCRIPTION:Phase: Ausschreibung | Beschreibung: Angebote werden eingeholt | Link: https://ausschreibungsradar.com/ausschreibung/93c643fb-4fe3-4587-bd2b-9e92fe6ee9f3/
URL:https://ausschreibungsradar.com/ausschreibung/93c643fb-4fe3-4587-bd2b-9e92fe6ee9f3/
END:VEVENT
BEGIN:VEVENT
UID:5585dca098ef6f40@ausschreibungsradar.com
DTSTAMP:20260426T003956Z
DTSTART;VALUE=DATE:20240529
DTEND;VALUE=DATE:20240529
SUMMARY:Vergabeergebnis — BvA_Estricharbeiten_Feilitzsch_Generalsanierung und Erweiter
DESCRIPTION:Phase: Vergabeergebnis | Beschreibung: Auftrag wurde zugeschlagen | Link: https://ausschreibungsradar.com/ausschreibung/dbd01772-3bd2-4e6d-9b35-1528a2b66c1e/ | Geschätzter Wert: 82471 €
URL:https://ausschreibungsradar.com/ausschreibung/dbd01772-3bd2-4e6d-9b35-1528a2b66c1e/
END:VEVENT
BEGIN:VEVENT
UID:b57e72838ada91a2@ausschreibungsradar.com
DTSTAMP:20260426T003956Z
DTSTART;VALUE=DATE:20240529
DTEND;VALUE=DATE:20240529
SUMMARY:Zuschlag — BvA_Estricharbeiten_Feilitzsch_Generalsanierung und Erweiter
DESCRIPTION:Phase: Zuschlag | Beschreibung: Vergabeergebnis — Auftrag wurde erteilt oder Verfahren beendet. | Link: https://ausschreibungsradar.com/ausschreibung/1c64ad96-c599-4aaa-94a1-81b06ae7e70c/
URL:https://ausschreibungsradar.com/ausschreibung/1c64ad96-c599-4aaa-94a1-81b06ae7e70c/
END:VEVENT
END:VCALENDAR
