BEGIN:VCALENDAR
VERSION:2.0
PRODID:-//AusschreibungsRadar//Timeline//DE
CALSCALE:GREGORIAN
METHOD:PUBLISH
X-WR-CALNAME:Projekt Depotinstandsetzung 2026 EGV FRANKFURT AM MAIN
X-WR-TIMEZONE:Europe/Berlin
BEGIN:VEVENT
UID:3132bf00a48b720d@ausschreibungsradar.com
DTSTAMP:20260425T215957Z
DTSTART;VALUE=DATE:20251229
DTEND;VALUE=DATE:20251229
SUMMARY:Ausschreibung — Depotinstandsetzung 2026 EGV FRANKFURT AM MAIN
DESCRIPTION:Phase: Ausschreibung | Beschreibung: Angebote werden eingeholt | Link: https://ausschreibungsradar.com/ausschreibung/dc61e049-07bf-4ef5-8779-b7d91ce9308c/
URL:https://ausschreibungsradar.com/ausschreibung/dc61e049-07bf-4ef5-8779-b7d91ce9308c/
END:VEVENT
BEGIN:VEVENT
UID:84f1ad3e045f80fc@ausschreibungsradar.com
DTSTAMP:20260425T215957Z
DTSTART;VALUE=DATE:20251229
DTEND;VALUE=DATE:20251229
SUMMARY:Ausschreibung — Depotinstandsetzung 2026 EGV FRANKFURT AM MAIN
DESCRIPTION:Phase: Ausschreibung | Beschreibung: Offizielle Ausschreibung mit Bieterfrist. | Link: https://ausschreibungsradar.com/ausschreibung/c8c2e785-c9d3-48df-9a5f-a48c3f83b6ab/
URL:https://ausschreibungsradar.com/ausschreibung/c8c2e785-c9d3-48df-9a5f-a48c3f83b6ab/
END:VEVENT
BEGIN:VEVENT
UID:30e6ca6a6b6e71ab@ausschreibungsradar.com
DTSTAMP:20260425T215957Z
DTSTART;VALUE=DATE:20251229
DTEND;VALUE=DATE:20251229
SUMMARY:Ausschreibung — Depotinstandsetzung 2026 EGV FRANKFURT AM MAIN
DESCRIPTION:Phase: Ausschreibung | Beschreibung: Offizielle Ausschreibung mit Bieterfrist. | Link: https://ausschreibungsradar.com/ausschreibung/86a4769c-f34f-49d1-8923-6be9d575b0b1/
URL:https://ausschreibungsradar.com/ausschreibung/86a4769c-f34f-49d1-8923-6be9d575b0b1/
END:VEVENT
END:VCALENDAR
