BEGIN:VCALENDAR
VERSION:2.0
PRODID:-//AusschreibungsRadar//Timeline//DE
CALSCALE:GREGORIAN
METHOD:PUBLISH
X-WR-CALNAME:Projekt Ersatz Hintergrundbeleuchtung Studio 1
X-WR-TIMEZONE:Europe/Berlin
BEGIN:VEVENT
UID:6c5d07ae5d576920@ausschreibungsradar.com
DTSTAMP:20260425T204714Z
DTSTART;VALUE=DATE:20260115
DTEND;VALUE=DATE:20260115
SUMMARY:Angebotsfrist — Ersatz Hintergrundbeleuchtung Studio 1
DESCRIPTION:Phase: Ausschreibung | Beschreibung: Angebote werden eingeholt | Link: https://ausschreibungsradar.com/ausschreibung/ae39a7e2-71cc-4d85-8b39-9d501198ee77/
URL:https://ausschreibungsradar.com/ausschreibung/ae39a7e2-71cc-4d85-8b39-9d501198ee77/
END:VEVENT
BEGIN:VEVENT
UID:5d3056b8216ea200@ausschreibungsradar.com
DTSTAMP:20260425T204714Z
DTSTART;VALUE=DATE:20260204
DTEND;VALUE=DATE:20260204
SUMMARY:Vergabeergebnis — Ersatz Hintergrundbeleuchtung Studio 1
DESCRIPTION:Phase: Vergabeergebnis | Beschreibung: Auftrag wurde zugeschlagen | Link: https://ausschreibungsradar.com/ausschreibung/dc76e9b7-22e4-41d6-ada7-8ba0a8afd1ed/
URL:https://ausschreibungsradar.com/ausschreibung/dc76e9b7-22e4-41d6-ada7-8ba0a8afd1ed/
END:VEVENT
END:VCALENDAR
