BEGIN:VCALENDAR
VERSION:2.0
PRODID:-//AusschreibungsRadar//Timeline//DE
CALSCALE:GREGORIAN
METHOD:PUBLISH
X-WR-CALNAME:Projekt Entsorgungsleistungen
X-WR-TIMEZONE:Europe/Berlin
BEGIN:VEVENT
UID:9cd184b951473b84@ausschreibungsradar.com
DTSTAMP:20260424T060524Z
DTSTART;VALUE=DATE:20260309
DTEND;VALUE=DATE:20260309
SUMMARY:Angebotsfrist — Entsorgungsleistungen
DESCRIPTION:Phase: Ausschreibung | Beschreibung: Angebote werden eingeholt | Link: https://ausschreibungsradar.com/ausschreibung/dd41a0b5-a117-42a5-9ae4-a5950a04e2d2/
URL:https://ausschreibungsradar.com/ausschreibung/dd41a0b5-a117-42a5-9ae4-a5950a04e2d2/
END:VEVENT
END:VCALENDAR
