BEGIN:VCALENDAR
VERSION:2.0
PRODID:-//AusschreibungsRadar//Timeline//DE
CALSCALE:GREGORIAN
METHOD:PUBLISH
X-WR-CALNAME:Projekt Los 1
X-WR-TIMEZONE:Europe/Berlin
BEGIN:VEVENT
UID:1381c674ce834053@ausschreibungsradar.com
DTSTAMP:20260425T205957Z
DTSTART;VALUE=DATE:20240606
DTEND;VALUE=DATE:20240606
SUMMARY:Angebotsfrist — Los 1
DESCRIPTION:Phase: Ausschreibung | Beschreibung: Angebote werden eingeholt | Link: https://ausschreibungsradar.com/ausschreibung/dd84a3dd-e1f4-4a14-9303-51251c513329/
URL:https://ausschreibungsradar.com/ausschreibung/dd84a3dd-e1f4-4a14-9303-51251c513329/
END:VEVENT
BEGIN:VEVENT
UID:3d1abae2c4687658@ausschreibungsradar.com
DTSTAMP:20260425T205957Z
DTSTART;VALUE=DATE:20240508
DTEND;VALUE=DATE:20240508
SUMMARY:Ausschreibung — Los 1
DESCRIPTION:Phase: Ausschreibung | Beschreibung: Offizielle Ausschreibung mit Bieterfrist. | Link: https://ausschreibungsradar.com/ausschreibung/8608d777-1643-4a87-a96c-a32d82c5b618/
URL:https://ausschreibungsradar.com/ausschreibung/8608d777-1643-4a87-a96c-a32d82c5b618/
END:VEVENT
BEGIN:VEVENT
UID:812ed7ba6bc1cfa5@ausschreibungsradar.com
DTSTAMP:20260425T205957Z
DTSTART;VALUE=DATE:20240731
DTEND;VALUE=DATE:20240731
SUMMARY:Vergabeergebnis — Los 1
DESCRIPTION:Phase: Vergabeergebnis | Beschreibung: Auftrag wurde zugeschlagen | Link: https://ausschreibungsradar.com/ausschreibung/cbcbbdf1-22a8-4644-b9a8-d19f3a8b7e32/ | Geschätzter Wert: 215000 €
URL:https://ausschreibungsradar.com/ausschreibung/cbcbbdf1-22a8-4644-b9a8-d19f3a8b7e32/
END:VEVENT
END:VCALENDAR
