BEGIN:VCALENDAR
VERSION:2.0
PRODID:-//AusschreibungsRadar//Timeline//DE
CALSCALE:GREGORIAN
METHOD:PUBLISH
X-WR-CALNAME:Projekt Qualitätskontrollen Gebäudereinigung
X-WR-TIMEZONE:Europe/Berlin
BEGIN:VEVENT
UID:9935b38f4b7351e1@ausschreibungsradar.com
DTSTAMP:20260425T102019Z
DTSTART;VALUE=DATE:20240425
DTEND;VALUE=DATE:20240425
SUMMARY:Angebotsfrist — Qualitätskontrollen Gebäudereinigung
DESCRIPTION:Phase: Ausschreibung | Beschreibung: Angebote werden eingeholt | Link: https://ausschreibungsradar.com/ausschreibung/de71ab3a-0eaa-4c9c-82ec-919865be3e3f/
URL:https://ausschreibungsradar.com/ausschreibung/de71ab3a-0eaa-4c9c-82ec-919865be3e3f/
END:VEVENT
BEGIN:VEVENT
UID:a066d24dc28ebd65@ausschreibungsradar.com
DTSTAMP:20260425T102019Z
DTSTART;VALUE=DATE:20240711
DTEND;VALUE=DATE:20240711
SUMMARY:Vergabeergebnis — Qualitätskontrollen Gebäudereinigung
DESCRIPTION:Phase: Vergabeergebnis | Beschreibung: Auftrag wurde zugeschlagen | Link: https://ausschreibungsradar.com/ausschreibung/3db87f0d-f996-4dca-a1fb-d8b9e6ab68a2/
URL:https://ausschreibungsradar.com/ausschreibung/3db87f0d-f996-4dca-a1fb-d8b9e6ab68a2/
END:VEVENT
END:VCALENDAR
