BEGIN:VCALENDAR
VERSION:2.0
PRODID:-//AusschreibungsRadar//Timeline//DE
CALSCALE:GREGORIAN
METHOD:PUBLISH
X-WR-CALNAME:Projekt Büromöbel, Bürostühle, Spinde -  Rahmenverträge
X-WR-TIMEZONE:Europe/Berlin
BEGIN:VEVENT
UID:9623284fe78df3ab@ausschreibungsradar.com
DTSTAMP:20260424T162827Z
DTSTART;VALUE=DATE:20250428
DTEND;VALUE=DATE:20250428
SUMMARY:Angebotsfrist — Büromöbel\, Bürostühle\, Spinde -  Rahmenverträge
DESCRIPTION:Phase: Ausschreibung | Beschreibung: Angebote werden eingeholt | Link: https://ausschreibungsradar.com/ausschreibung/deca268f-6785-4af2-8dcc-11dc9000c80c/
URL:https://ausschreibungsradar.com/ausschreibung/deca268f-6785-4af2-8dcc-11dc9000c80c/
END:VEVENT
BEGIN:VEVENT
UID:3e5ba9b2001824be@ausschreibungsradar.com
DTSTAMP:20260424T162827Z
DTSTART;VALUE=DATE:20250324
DTEND;VALUE=DATE:20250324
SUMMARY:Ausschreibung — Büromöbel\, Bürostühle\, Spinde -  Rahmenverträge
DESCRIPTION:Phase: Ausschreibung | Beschreibung: Offizielle Ausschreibung mit Bieterfrist. | Link: https://ausschreibungsradar.com/ausschreibung/a367c758-816a-4cc1-bd08-88455806e5d3/
URL:https://ausschreibungsradar.com/ausschreibung/a367c758-816a-4cc1-bd08-88455806e5d3/
END:VEVENT
BEGIN:VEVENT
UID:c691b1be67d18823@ausschreibungsradar.com
DTSTAMP:20260424T162827Z
DTSTART;VALUE=DATE:20250324
DTEND;VALUE=DATE:20250324
SUMMARY:Ausschreibung — Büromöbel\, Bürostühle\, Spinde -  Rahmenverträge
DESCRIPTION:Phase: Ausschreibung | Beschreibung: Offizielle Ausschreibung mit Bieterfrist. | Link: https://ausschreibungsradar.com/ausschreibung/ecac0823-6da8-40f2-bf07-fc9fb8e3aa6f/
URL:https://ausschreibungsradar.com/ausschreibung/ecac0823-6da8-40f2-bf07-fc9fb8e3aa6f/
END:VEVENT
BEGIN:VEVENT
UID:47d2b11820df6ace@ausschreibungsradar.com
DTSTAMP:20260424T162827Z
DTSTART;VALUE=DATE:20250324
DTEND;VALUE=DATE:20250324
SUMMARY:Ausschreibung — Büromöbel\, Bürostühle\, Spinde -  Rahmenverträge
DESCRIPTION:Phase: Ausschreibung | Beschreibung: Offizielle Ausschreibung mit Bieterfrist. | Link: https://ausschreibungsradar.com/ausschreibung/739edb38-af8e-45e8-b61f-5cf1c585c421/
URL:https://ausschreibungsradar.com/ausschreibung/739edb38-af8e-45e8-b61f-5cf1c585c421/
END:VEVENT
BEGIN:VEVENT
UID:507acce26a81f84d@ausschreibungsradar.com
DTSTAMP:20260424T162827Z
DTSTART;VALUE=DATE:20250721
DTEND;VALUE=DATE:20250721
SUMMARY:Vergabeergebnis — Büromöbel\, Bürostühle\, Spinde -  Rahmenverträge
DESCRIPTION:Phase: Vergabeergebnis | Beschreibung: Auftrag wurde zugeschlagen | Link: https://ausschreibungsradar.com/ausschreibung/cfd38498-db3e-444e-bb48-af28e4e09960/
URL:https://ausschreibungsradar.com/ausschreibung/cfd38498-db3e-444e-bb48-af28e4e09960/
END:VEVENT
END:VCALENDAR
